BEGIN:VCALENDAR
VERSION:2.0
PRODID:-//ChamberMaster//Event Calendar 2.0//EN
METHOD:PUBLISH
X-PUBLISHED-TTL:P3D
REFRESH-INTERVAL:P3D
CALSCALE:GREGORIAN
BEGIN:VEVENT
DTSTART:20190906T003000Z
DTEND:20190906T020000Z
X-MICROSOFT-CDO-ALLDAYEVENT:FALSE
SUMMARY:Explore China - Informational Meeting
DESCRIPTION:Join us for a FREE informational meeting to learn more about our upcoming trip to China.\n\n\n\n\n\nTrip Information\n\n\n\nApril 18 - 26\, 2020\n\n2 Itineraries Available - all inclusive for $2\,099 or $2\,299\n\n \n\nYour Trip Includes\n\n\n	Round trip international airfare & Chinese domestic airfare & tax\n	4- and 5-star hotel accommodations\n	3 meals each day\n	Deluxe bus tours\n	Fluent English-speaking tour guides\n	Entrance fees for attractions
X-ALT-DESC;FMTTYPE=text/html:<p style="color: rgb(51\, 51\, 51)\; font-family: Georgia\, &quot\;Times New Roman&quot\;\, &quot\;Bitstream Charter&quot\;\, Times\, serif\; font-size: 16px\;"><br />\nJoin us for a FREE informational meeting to learn more about our upcoming trip to China.<br />\n<br />\n<br />\n<strong>Trip Information</strong><br />\n<br />\nApril 18 - 26\, 2020<br />\n2 Itineraries Available - all inclusive for $2\,099 or $2\,299<br />\n&nbsp\;</p>\n\n<p style="color: rgb(51\, 51\, 51)\; font-family: Georgia\, &quot\;Times New Roman&quot\;\, &quot\;Bitstream Charter&quot\;\, Times\, serif\; font-size: 16px\;"><strong>Your Trip Includes</strong></p>\n\n<ul style="color: rgb(51\, 51\, 51)\; font-family: Georgia\, &quot\;Times New Roman&quot\;\, &quot\;Bitstream Charter&quot\;\, Times\, serif\; font-size: 16px\;">\n	<li>Round trip international airfare &amp\; Chinese domestic airfare &amp\; tax</li>\n	<li>4- and 5-star hotel accommodations</li>\n	<li>3 meals each day</li>\n	<li>Deluxe bus tours</li>\n	<li>Fluent English-speaking tour guides</li>\n	<li>Entrance fees for attractions</li>\n</ul>\n
LOCATION:North San Diego Business Chamber 10875 Rancho Bernardo Road Suite 104 San Diego CA 92127
UID:e.784.22756
SEQUENCE:3
DTSTAMP:20260421T125905Z
URL:https://chamber.sdbusinesschamber.com/events/details/explore-china-informational-meeting-22756
END:VEVENT

END:VCALENDAR
