BEGIN:VCALENDAR
VERSION:2.0
PRODID:-//ChamberMaster//Event Calendar 2.0//EN
METHOD:PUBLISH
X-PUBLISHED-TTL:P3D
REFRESH-INTERVAL:P3D
CALSCALE:GREGORIAN
BEGIN:VEVENT
DTSTART:20101005T143000Z
DTEND:20101005T160000Z
X-MICROSOFT-CDO-ALLDAYEVENT:FALSE
SUMMARY:Executive Speaker Series
DESCRIPTION:With today's turbulent financial market\, learn how one of San Diego's largest companies is staying on top\n\n	 \n\n	Presented by: Brad Holiday\, CFO\, Callaway Golf\n\n	Callaway CFO Brad Holiday gives and in depth look and gives valuable answers about today's pertinent questions.\n\n	\n		How do you develop a business forecast in such a volatile macro economic environment?\n	\n		What actions can a business take to offset market softness? Long term vs. short term.\n	\n		Is there a 'silver lining' out there?
X-ALT-DESC;FMTTYPE=text/html:<h1>\n	<span style="font-size: 18px\;">With today&#39\;s turbulent financial market\, learn how one of San Diego&#39\;s largest companies is staying on top</span></h1>\n<h4>\n	&nbsp\;<br />\n	Presented by: Brad Holiday\, CFO\, Callaway Golf</h4>\n<p>\n	Callaway CFO Brad Holiday gives and in depth look and gives valuable answers about today&#39\;s pertinent questions.</p>\n<ul>\n	<li>\n		How do you develop a business forecast in such a volatile macro economic environment?</li>\n	<li>\n		What actions can a business take to offset market softness? Long term vs. short term.</li>\n	<li>\n		Is there a &lsquo\;silver lining&rsquo\; out there?</li>\n</ul>\n
LOCATION:The Country Club of Rancho Bernardo 12280 Greens East Rd San Diego CA 92128-2155
UID:e.784.1822
SEQUENCE:3
DTSTAMP:20260423T182749Z
URL:https://chamber.sdbusinesschamber.com/events/details/executive-speaker-series-10-05-2010-1822
END:VEVENT

END:VCALENDAR
