BEGIN:VCALENDAR
VERSION:2.0
PRODID:-//ChamberMaster//Event Calendar 2.0//EN
METHOD:PUBLISH
X-PUBLISHED-TTL:P3D
REFRESH-INTERVAL:P3D
CALSCALE:GREGORIAN
BEGIN:VEVENT
DTSTART:20131116T030000Z
DTEND:20131116T050000Z
X-MICROSOFT-CDO-ALLDAYEVENT:FALSE
SUMMARY:Event at YOUTH PHILHARMONIC ORCHESTRA
DESCRIPTION:"   International Serenade" Concert\, performed by its award-winning Soloists Ensemble\, directed by Maestro Alyze Dreiling. \n\n \n\nPROGRAM\n\nRounds for strings - David Diamond\n\nConcerto for Violin and Cello in B-flat major - Vivaldi\n\nJonathan Kwok\, violin & Taylor Cottle\, cello\n\n\n\n\n\nDuo Concerto for Violin and Piano - Mendelssohn\n\nAdam Davis\, violin & David Phan\, piano\n\nZapateado - Sarasate\n\nKelly Liou\, violin   \n\n\n\n\n\nSerenade for Strings - Tchaikovsky
X-ALT-DESC;FMTTYPE=text/html:<span style="font-size: 13.5pt\;"><span style="font-family: helvetica\,sans-serif\;">&quot\;<strong><span style="font-family: helvetica\,sans-serif\;"><span style="display: none\;">&nbsp\;</span><span style="display: none\;">&nbsp\;</span><span style="display: none\;">&nbsp\;</span>International Serenade</span></strong></span>&quot\;&nbsp\;<strong><span style="font-family: helvetica\,sans-serif\;">Concert\,&nbsp\;performed by its award-winning Soloists Ensemble\, directed by Maestro Alyze Dreiling.&nbsp\;</span></strong></span><br />\n&nbsp\;<br />\n<strong><span data-mce-style="text-decoration: underline\;"><span data-mce-style="font-family: Helvetica\, sans-serif\; font-size: medium\;"><u><span style="font-size: 13.5pt\;"><span style="font-family: helvetica\,sans-serif\;"><span style="color: black\;">PROGRAM</span></span></span></u></span></span></strong><br />\n<span data-mce-style="font-family: Helvetica\, sans-serif\; font-size: medium\;"><span style="font-size: 13.5pt\;"><span style="font-family: helvetica\,sans-serif\;"><span style="color: black\;">Rounds for strings - David Diamond</span></span></span></span><br />\n<span style="font-size: 13.5pt\;"><span style="font-family: helvetica\,sans-serif\;"><span style="color: black\;">Concerto for Violin and Cello in B-flat major - Vivaldi</span></span></span><br />\n<span data-mce-style="font-family: Helvetica\, sans-serif\; font-size: medium\;"><strong><span style="font-size: 13.5pt\;"><span style="font-family: helvetica\,sans-serif\;"><span style="color: black\;">Jonathan Kwok\, violin &amp\; Taylor Cottle\, cello</span></span></span></strong></span><br />\n<br />\n<br />\n<span style="font-size: 13.5pt\;"><span style="font-family: helvetica\,sans-serif\;"><span style="color: black\;">Duo Concerto for Violin and Piano - Mendelssohn</span></span></span><br />\n<span data-mce-style="font-family: Helvetica\, sans-serif\; font-size: medium\;"><strong><span style="font-size: 13.5pt\;"><span style="font-family: helvetica\,sans-serif\;"><span style="color: black\;">Adam Davis\, violin &amp\; David Phan\, piano</span></span></span></strong></span><br />\n<span style="font-size: 13.5pt\;"><span style="font-family: helvetica\,sans-serif\;"><span style="color: black\;">Zapateado - Sarasate</span></span></span><br />\n<span data-mce-style="font-family: Helvetica\, sans-serif\; font-size: medium\;"><strong><span style="font-size: 13.5pt\;"><span style="font-family: helvetica\,sans-serif\;"><span style="color: black\;">Kelly Liou\, violin<span style="display: none\;">&nbsp\;</span><span style="display: none\;">&nbsp\;</span><span style="display: none\;">&nbsp\;</span></span></span></span></strong></span><br />\n<br />\n<br />\n<span style="font-size: 13.5pt\;"><span style="font-family: helvetica\,sans-serif\;"><span style="color: black\;">Serenade for Strings - Tchaikovsky</span></span></span><br />\n
LOCATION:Rancho Bernardo Community Presbyterian Church\, 17010 Pomerado Rd.\, San Diego 92128
UID:e.784.2993
SEQUENCE:3
DTSTAMP:20260421T130310Z
URL:https://chamber.sdbusinesschamber.com/events/details/event-at-youth-philharmonic-orchestra-11-15-2013-2993
END:VEVENT

END:VCALENDAR
