BEGIN:VCALENDAR
VERSION:2.0
PRODID:-//ChamberMaster//Event Calendar 2.0//EN
METHOD:PUBLISH
X-PUBLISHED-TTL:P3D
REFRESH-INTERVAL:P3D
CALSCALE:GREGORIAN
BEGIN:VEVENT
DTSTART:20131117T190000Z
DTEND:20131118T000000Z
X-MICROSOFT-CDO-ALLDAYEVENT:FALSE
SUMMARY:Event at Rancho Bernardo Pet Hospital
DESCRIPTION:Rancho Bernardo Pet Hospital would like to invite the community to our open house. Come and meet the doctor and the staff. Take a tour of the facility.
X-ALT-DESC;FMTTYPE=text/html:Rancho Bernardo Pet Hospital would like to invite the community to our open house. Come and meet the doctor and the staff. Take a tour of the facility. 
LOCATION:16588 Bernardo Center Dr. Ste. 160
UID:e.784.2985
SEQUENCE:3
DTSTAMP:20260421T113409Z
URL:https://chamber.sdbusinesschamber.com/events/details/event-at-rancho-bernardo-pet-hospital-11-17-2013-2985
END:VEVENT

END:VCALENDAR
