BEGIN:VCALENDAR
VERSION:2.0
PRODID:-//ChamberMaster//Event Calendar 2.0//EN
METHOD:PUBLISH
X-PUBLISHED-TTL:P3D
REFRESH-INTERVAL:P3D
CALSCALE:GREGORIAN
BEGIN:VEVENT
DTSTART:20120520T200000Z
DTEND:20120520T230000Z
X-MICROSOFT-CDO-ALLDAYEVENT:FALSE
SUMMARY:Event at Noonan Family Swim School
DESCRIPTION:Noonan Family Swim School is hosting its 2nd annual Water Safety Awareness Day on Sunday\, May 20 1pm   4pm.\n\n\n\nJoin us at the 4S Ranch Pool to learn about various drowning prevention strategies and gain basic self help skills in an aquatic emergency. Take part in rescue demonstrations\, learn about beach and pool safety\, and observe lifeguard demonstrations.\n\n\n\nFor more information call 858-451-0794 or find us on the web at www.NoonanFamilySwimSchool.com.
X-ALT-DESC;FMTTYPE=text/html:<strong><em>Noonan Family Swim School </em></strong>is hosting its <strong>2nd annual Water Safety Awareness Day </strong>on <strong>Sunday\, May 20 1pm &ndash\; 4pm</strong>.<br />\n<br />\nJoin us at the 4S Ranch Pool to learn about various drowning prevention strategies and gain basic self help skills in an aquatic emergency. Take part in rescue demonstrations\, learn about beach and pool safety\, and observe lifeguard demonstrations.<br />\n<br />\nFor more information call <strong>858-451-0794</strong> or find us on the web at <a href="http://www.NoonanFamilySwimSchool.com">www.NoonanFamilySwimSchool.com</a>.
LOCATION:10710 Thornmint Road San Diego\, CA 92127
UID:e.784.2630
SEQUENCE:3
DTSTAMP:20260422T154607Z
URL:https://chamber.sdbusinesschamber.com/events/details/event-at-noonan-family-swim-school-05-20-2012-2630
END:VEVENT

END:VCALENDAR
