BEGIN:VCALENDAR
VERSION:2.0
PRODID:-//ChamberMaster//Event Calendar 2.0//EN
METHOD:PUBLISH
X-PUBLISHED-TTL:P3D
REFRESH-INTERVAL:P3D
CALSCALE:GREGORIAN
BEGIN:VEVENT
DTSTART;VALUE=DATE:20200821
DTEND;VALUE=DATE:20200822
TRANSP:TRANSPARENT
X-MICROSOFT-CDO-ALLDAYEVENT:TRUE
SUMMARY:Ends Friday - No Reserve auction Brewery Bottling Labeling Equipment Line
DESCRIPTION:https://northcountyauctions.proxibid.com/NorthCountyAuctions-Com/August-Bottling-Assembly-Line-Auction/event-catalog/183564\n\n\n\nThank you\,\n\n\n\nCraig J. Casey\, Marketing Director\n\n\n\ntext ncauctions to 77222 \n\n\n\nNorth County Auctions\n\n\n\ncasey@NorthCountyAuctions.com\n\n\n\nWork 888-622-8284\n\ncell 619-787-4906\n\n\n\nNorthCountyAuctions.com\n\n\n\nLot Title Lot Description\n\nKMT streamline SLV E30 Model E 30 V2 part number 72162721 44 inches tall\, 36 inch depth\, 62 inches wide\n\nFiber Laser Marking Machine YM-01 laser printing control system Lemon laser cutter Looks New in box YM-01 laser printing control system in operation manual plus LDJ-F fiber laser marking machine crate is 27in wide 27in tall 48in long\n\nNew In box Thyssepkrupp Stainless steel control box 48in Tall 32in Wide 14in deep Model Number???\n\ncheckweigher 35 inch length\, 31 inch width\, 52 inch height\n\nMini conveyor belt 33 inches tall 30 inches wide 20 inch depth\n\nIndustrial Checkweigher Model W300=550-550-800 rated 220v 1.5amps 1000 gram range 52 inch height\n\nAFG Process Systems Industrial Labeling Machine\, BLK WTR Model PSW-100\, year 2018\, rated 220v 60Hz 1P 1.5Kw. 84 inches wide 64 inches tall\, 38 inch depth\n\nAFG Process Systems Industrial Labeling Machine\, Chick-Fil-A Lemon Juice Model PSW-100\, year 2018\, rated 220v 60Hz 1P 1.5Kw. 113 inches wide\, 70 inches depth\, 61 inches tall\n\nAFG Process Systems Industrial Labeling Machine Model PSW-100\, year 2018\, rated 220v 60Hz 1P 1.5Kw. 85 inches wide\, 63 inches tall\, 37 inch depth\n\nAFG Process Systems Industrial Labeling Machine Model ETLM-120 rated AC 220v 60Hz 3000w 17 amps. 114 inches wide\, 60 inches tall\, 68 inch depth\n\nAFG Packing System Sealing Machine Model Number??? Rating??? 65 inch depth\, 58 inch height\, 71 inch width\n\nAFG Process Systems Industrial Labeling Machine Model PSW-100\, year 2017 - 2018\, rated 220v 60Hz 1P 1.5Kw. 80 inch width 43 inch depth 64 inch height\n\nAFG Filling Systems Industrial Beer Barrel Washing Mashing Model #???? Rating??? 60 inch height\, 60 inch width\, 45 inch depth\n\nAFG Packaging System Sealing Machine Model HFWSS-21 rated AC 208v 60Hz 2400w 10amps. 48 inch width\, 56 inch height\, 62 inch depth\n\nRotary Pillow Packing Machine Model 250 D/B 51 inch height\, 42 inch width\, 32 inch depth includes service manual\n\nIce Water Inlet / Liquid Outlet Machine Model ##?? Rating??? 53 inches wide\, 45 inches tall\, 20 inch depth\n\nRotary Pillow Packing Machine Model 250 D/B 51 inch height\, 42 inch width\, 32 inch depth includes service manual\n\nRotary Pillow Packing Machine Model 250 D/B 51 inch height\, 42 inch width\, 32 inch depth includes service manual\n\nConveyor Belt Frame
X-ALT-DESC;FMTTYPE=text/html:<a href="https://northcountyauctions.proxibid.com/NorthCountyAuctions-Com/August-Bottling-Assembly-Line-Auction/event-catalog/183564"><span style="color:rgb(34\, 34\, 34)\; font-family:bitstream vera serif\,times new roman\,serif\; font-size:medium">https://northcountyauctions.proxibid.com/NorthCountyAuctions-Com/August-Bottling-Assembly-Line-Auction/event-catalog/183564</span></a><br />\n<br />\n<span style="color:rgb(0\, 0\, 0)\; font-family:verdana\,geneva\; font-size:13.3333px">Thank you\,</span><br />\n<br />\n<span style="color:rgb(0\, 0\, 0)\; font-family:verdana\,geneva\; font-size:13.3333px">Craig J. Casey\, Marketing Director</span><br />\n<br />\n<span style="color:rgb(0\, 0\, 0)\; font-family:verdana\,geneva\; font-size:13.3333px">text ncauctions to 77222&nbsp\;</span><br />\n<br />\n<span style="color:rgb(0\, 0\, 0)\; font-family:verdana\,geneva\; font-size:13.3333px">North County Auctions</span><br />\n<br />\n<span style="color:rgb(0\, 0\, 0)\; font-family:verdana\,geneva\; font-size:13.3333px">casey@NorthCountyAuctions.com</span><br />\n<br />\n<span style="color:rgb(0\, 0\, 0)\; font-family:verdana\,geneva\; font-size:13.3333px">Work 888-622-8284</span><br />\n<span style="color:rgb(0\, 0\, 0)\; font-family:verdana\,geneva\; font-size:13.3333px">cell 619-787-4906</span><br />\n<br />\n<span style="color:rgb(0\, 0\, 0)\; font-family:verdana\,geneva\; font-size:13.3333px">NorthCountyAuctions.com</span><br />\n<br />\n<span style="color:rgb(34\, 34\, 34)\; font-family:bitstream vera serif\,times new roman\,serif\; font-size:medium">Lot Title Lot Description</span><br />\n<span style="color:rgb(34\, 34\, 34)\; font-family:bitstream vera serif\,times new roman\,serif\; font-size:medium">KMT streamline SLV E30 Model E 30 V2 part number 72162721 44 inches tall\, 36 inch depth\, 62 inches wide</span><br />\n<span style="color:rgb(34\, 34\, 34)\; font-family:bitstream vera serif\,times new roman\,serif\; font-size:medium">Fiber Laser Marking Machine YM-01 laser printing control system Lemon laser cutter Looks New in box YM-01 laser printing control system in operation manual plus LDJ-F fiber laser marking machine crate is 27in wide 27in tall 48in long</span><br />\n<span style="color:rgb(34\, 34\, 34)\; font-family:bitstream vera serif\,times new roman\,serif\; font-size:medium">New In box Thyssepkrupp Stainless steel control box 48in Tall 32in Wide 14in deep Model Number???</span><br />\n<span style="color:rgb(34\, 34\, 34)\; font-family:bitstream vera serif\,times new roman\,serif\; font-size:medium">checkweigher 35 inch length\, 31 inch width\, 52 inch height</span><br />\n<span style="color:rgb(34\, 34\, 34)\; font-family:bitstream vera serif\,times new roman\,serif\; font-size:medium">Mini conveyor belt 33 inches tall 30 inches wide 20 inch depth</span><br />\n<span style="color:rgb(34\, 34\, 34)\; font-family:bitstream vera serif\,times new roman\,serif\; font-size:medium">Industrial Checkweigher Model W300=550-550-800 rated 220v 1.5amps 1000 gram range 52 inch height</span><br />\n<span style="color:rgb(34\, 34\, 34)\; font-family:bitstream vera serif\,times new roman\,serif\; font-size:medium">AFG Process Systems Industrial Labeling Machine\, BLK WTR Model PSW-100\, year 2018\, rated 220v 60Hz 1P 1.5Kw. 84 inches wide 64 inches tall\, 38 inch depth</span><br />\n<span style="color:rgb(34\, 34\, 34)\; font-family:bitstream vera serif\,times new roman\,serif\; font-size:medium">AFG Process Systems Industrial Labeling Machine\, Chick-Fil-A Lemon Juice Model PSW-100\, year 2018\, rated 220v 60Hz 1P 1.5Kw. 113 inches wide\, 70 inches depth\, 61 inches tall</span><br />\n<span style="color:rgb(34\, 34\, 34)\; font-family:bitstream vera serif\,times new roman\,serif\; font-size:medium">AFG Process Systems Industrial Labeling Machine Model PSW-100\, year 2018\, rated 220v 60Hz 1P 1.5Kw. 85 inches wide\, 63 inches tall\, 37 inch depth</span><br />\n<span style="color:rgb(34\, 34\, 34)\; font-family:bitstream vera serif\,times new roman\,serif\; font-size:medium">AFG Process Systems Industrial Labeling Machine Model ETLM-120 rated AC 220v 60Hz 3000w 17 amps. 114 inches wide\, 60 inches tall\, 68 inch depth</span><br />\n<span style="color:rgb(34\, 34\, 34)\; font-family:bitstream vera serif\,times new roman\,serif\; font-size:medium">AFG Packing System Sealing Machine Model Number??? Rating??? 65 inch depth\, 58 inch height\, 71 inch width</span><br />\n<span style="color:rgb(34\, 34\, 34)\; font-family:bitstream vera serif\,times new roman\,serif\; font-size:medium">AFG Process Systems Industrial Labeling Machine Model PSW-100\, year 2017 - 2018\, rated 220v 60Hz 1P 1.5Kw. 80 inch width 43 inch depth 64 inch height</span><br />\n<span style="color:rgb(34\, 34\, 34)\; font-family:bitstream vera serif\,times new roman\,serif\; font-size:medium">AFG Filling Systems Industrial Beer Barrel Washing Mashing Model #???? Rating??? 60 inch height\, 60 inch width\, 45 inch depth</span><br />\n<span style="color:rgb(34\, 34\, 34)\; font-family:bitstream vera serif\,times new roman\,serif\; font-size:medium">AFG Packaging System Sealing Machine Model HFWSS-21 rated AC 208v 60Hz 2400w 10amps. 48 inch width\, 56 inch height\, 62 inch depth</span><br />\n<span style="color:rgb(34\, 34\, 34)\; font-family:bitstream vera serif\,times new roman\,serif\; font-size:medium">Rotary Pillow Packing Machine Model 250 D/B 51 inch height\, 42 inch width\, 32 inch depth includes service manual</span><br />\n<span style="color:rgb(34\, 34\, 34)\; font-family:bitstream vera serif\,times new roman\,serif\; font-size:medium">Ice Water Inlet / Liquid Outlet Machine Model ##?? Rating??? 53 inches wide\, 45 inches tall\, 20 inch depth</span><br />\n<span style="color:rgb(34\, 34\, 34)\; font-family:bitstream vera serif\,times new roman\,serif\; font-size:medium">Rotary Pillow Packing Machine Model 250 D/B 51 inch height\, 42 inch width\, 32 inch depth includes service manual</span><br />\n<span style="color:rgb(34\, 34\, 34)\; font-family:bitstream vera serif\,times new roman\,serif\; font-size:medium">Rotary Pillow Packing Machine Model 250 D/B 51 inch height\, 42 inch width\, 32 inch depth includes service manual</span><br />\n<span style="color:rgb(34\, 34\, 34)\; font-family:bitstream vera serif\,times new roman\,serif\; font-size:medium">Conveyor Belt Frame</span>
LOCATION:876 N Broadway\, Escondido\, CA 92025
UID:e.784.25806
SEQUENCE:3
DTSTAMP:20260425T224145Z
URL:https://chamber.sdbusinesschamber.com/events/details/ends-friday-no-reserve-auction-brewery-bottling-labeling-equipment-line-08-21-2020-25806
END:VEVENT

END:VCALENDAR
