BEGIN:VCALENDAR
VERSION:2.0
PRODID:-//ChamberMaster//Event Calendar 2.0//EN
METHOD:PUBLISH
X-PUBLISHED-TTL:P3D
REFRESH-INTERVAL:P3D
CALSCALE:GREGORIAN
BEGIN:VEVENT
DTSTART:20121218T160000Z
DTEND:20130101T010000Z
X-MICROSOFT-CDO-ALLDAYEVENT:FALSE
SUMMARY:End of the Tax Year Donation Time- Don't Wait
DESCRIPTION:End of the 2012 Tax Year approaching.  Bring your clean\, reusable clothing and household goods to Goodwill Industries today.  Locations in Oceanside\, Vista\, Escondido\, Rancho Bernardo\, Rancho Penasquitos\, Mira Mesa and more.  https://www.sdgoodwill.org for locations and hours.\n\n\n\nDon't wait till the 31st!  Do it today. (The last day of the year is Goodwill's busiest day for donations- why wait in line on NY eve!)\n\n\n\nStores and Donation centers open daily (except Christmas Day)\n\n\n\nHave a wonderful holiday!
X-ALT-DESC;FMTTYPE=text/html:End of the 2012 Tax Year approaching.&nbsp\; Bring your clean\, reusable clothing and household goods to Goodwill Industries today.&nbsp\; Locations in Oceanside\, Vista\, Escondido\, Rancho Bernardo\, Rancho Penasquitos\, Mira Mesa and more.&nbsp\; <a href="https://www.sdgoodwill.org">https://www.sdgoodwill.org</a> for locations and hours.<br />\n<br />\nDon&#39\;t wait till the 31st!&nbsp\; Do it today. (The last day of the year is Goodwill&#39\;s busiest day for donations- why wait in line on NY eve!)<br />\n<br />\nStores and Donation centers open daily (except Christmas Day)<br />\n<br />\nHave a wonderful holiday!
LOCATION:various- visit website or call 619-225-2200
UID:e.784.2807
SEQUENCE:3
DTSTAMP:20260422T045627Z
URL:https://chamber.sdbusinesschamber.com/events/details/end-of-the-tax-year-donation-time-don-t-wait-12-18-2012-2807
END:VEVENT

END:VCALENDAR
