BEGIN:VCALENDAR
VERSION:2.0
PRODID:-//ChamberMaster//Event Calendar 2.0//EN
METHOD:PUBLISH
X-PUBLISHED-TTL:P3D
REFRESH-INTERVAL:P3D
CALSCALE:GREGORIAN
BEGIN:VEVENT
DTSTART:20130421T030000Z
DTEND:20130421T050000Z
X-MICROSOFT-CDO-ALLDAYEVENT:FALSE
SUMMARY:Eleanor: Her Secret Journey
DESCRIPTION:M*A*S*H  star Loretta Swit breathes life into one of history's most intriguing first ladies\, Eleanor Roosevelt. The action follows the years after World War I as Eleanor's canny and clear-eyed intelligence helped her evolve from an ugly duckling into a powerful woman and the First Lady of the United States .  A deeply personal portrait of the woman who brought warmth and compassion to issues of war\, peace\, and human rights.
X-ALT-DESC;FMTTYPE=text/html:<p class="MsoNormal" style="margin: 0in 0in 0pt">\n	<font size="3"><font color="#000000"><font face="Calibri"><i style="mso-bidi-font-style: normal"><span style="mso-bidi-font-family: calibri\; mso-bidi-theme-font: minor-latin">M*A*S*H </span></i><span style="mso-bidi-font-family: calibri\; mso-bidi-theme-font: minor-latin"><span style="mso-spacerun: yes">&nbsp\;</span>star <b style="mso-bidi-font-weight: normal">Loretta Swit </b>breathes life into one of history&rsquo\;s most intriguing first ladies\, Eleanor Roosevelt. The action follows the years after World War I as Eleanor&rsquo\;s canny and clear-eyed intelligence helped her evolve&nbsp\;from an ugly duckling into a powerful woman and the First Lady of the United States .<span style="mso-spacerun: yes">&nbsp\; </span>A deeply personal portrait of the woman who brought warmth and compassion to issues of war\, peace\, and human rights.<span style="mso-spacerun: yes">&nbsp\; </span><o:p></o:p></span></font></font></font></p>\n<p class="MsoNormal" style="line-height: normal\; margin: 0in 0in 10pt">\n	<o:p><font color="#000000" face="Calibri" size="3">&nbsp\;</font></o:p></p>\n
LOCATION:Poway Center for the Performing Arts 15498 Espola Road\, Poway\, CA 92064
UID:e.784.2668
SEQUENCE:3
DTSTAMP:20260421T224837Z
URL:https://chamber.sdbusinesschamber.com/events/details/eleanor-her-secret-journey-04-20-2013-2668
END:VEVENT

END:VCALENDAR
