BEGIN:VCALENDAR
VERSION:2.0
PRODID:-//ChamberMaster//Event Calendar 2.0//EN
METHOD:PUBLISH
X-PUBLISHED-TTL:P3D
REFRESH-INTERVAL:P3D
CALSCALE:GREGORIAN
BEGIN:VEVENT
DTSTART:20120519T000000Z
DTEND:20120519T013000Z
X-MICROSOFT-CDO-ALLDAYEVENT:FALSE
SUMMARY:Education Investment Club
DESCRIPTION:Raising Funds to Build Human Capital\n\nYou are the "Venture Capitalist" about to be dazzled. Young "entrepreneurs" will "pitch" their innovative ideas\, demonstrating your ROI before your very eyes. Jet on over for some great food and hot trends in hardware\, software and kids that already know how to create value. A-List investors know a good idea when you see it. We'll see you there!
X-ALT-DESC;FMTTYPE=text/html:<strong>Raising Funds to Build Human Capital</strong><br />\nYou are the &quot\;Venture Capitalist&quot\; about to be dazzled. Young &quot\;entrepreneurs&quot\; will &quot\;pitch&quot\; their innovative ideas\, demonstrating your ROI before your very eyes. Jet on over for some great food and hot trends in hardware\, software and kids that already know how to create value. A-List investors know a good idea when you see it. We&#39\;ll see you there! 
LOCATION:Center Theater CA Center for the Arts\, Escondido 380 N. Escondido Blvd. Escondido 92025
UID:e.784.2639
SEQUENCE:3
DTSTAMP:20260422T160424Z
URL:https://chamber.sdbusinesschamber.com/events/details/education-investment-club-05-18-2012-2639
END:VEVENT

END:VCALENDAR
