BEGIN:VCALENDAR
VERSION:2.0
PRODID:-//ChamberMaster//Event Calendar 2.0//EN
METHOD:PUBLISH
X-PUBLISHED-TTL:P3D
REFRESH-INTERVAL:P3D
CALSCALE:GREGORIAN
BEGIN:VEVENT
DTSTART:20131107T233000Z
DTEND:20131108T010000Z
X-MICROSOFT-CDO-ALLDAYEVENT:FALSE
SUMMARY:Education Forum
DESCRIPTION:Join us for a special forum on education and learn how United Way of San Diego County's exciting efforts in early-grade reading and school readiness are changing lives. Special guests include Mayor Matt Hall.
X-ALT-DESC;FMTTYPE=text/html:Join us for a special forum on education and learn how United Way of San Diego County&#39\;s exciting efforts in early-grade reading and school readiness are changing lives. Special guests include Mayor Matt Hall.
LOCATION:Bridgepoint Education: 13500 Evening Creek Drive North\, San Diego 92128
UID:e.784.2990
SEQUENCE:3
DTSTAMP:20260421T113049Z
URL:https://chamber.sdbusinesschamber.com/events/details/education-forum-11-07-2013-2990
END:VEVENT

END:VCALENDAR
