BEGIN:VCALENDAR
VERSION:2.0
PRODID:-//ChamberMaster//Event Calendar 2.0//EN
METHOD:PUBLISH
X-PUBLISHED-TTL:P3D
REFRESH-INTERVAL:P3D
CALSCALE:GREGORIAN
BEGIN:VEVENT
DTSTART:20101104T150000Z
DTEND:20101104T160000Z
X-MICROSOFT-CDO-ALLDAYEVENT:FALSE
SUMMARY:Education Committee
DESCRIPTION:
X-ALT-DESC;FMTTYPE=text/html:&nbsp\;
LOCATION:San Diego North Chamber 11650 Iberia Place Suite 220 San Diego CA 92128
UID:e.784.1959
SEQUENCE:3
DTSTAMP:20260423T164249Z
URL:https://chamber.sdbusinesschamber.com/events/details/education-committee-11-04-2010-1959
END:VEVENT

END:VCALENDAR
