BEGIN:VCALENDAR
VERSION:2.0
PRODID:-//ChamberMaster//Event Calendar 2.0//EN
METHOD:PUBLISH
X-PUBLISHED-TTL:P3D
REFRESH-INTERVAL:P3D
CALSCALE:GREGORIAN
BEGIN:VEVENT
DTSTART:20120110T160000Z
DTEND:20120110T173000Z
X-MICROSOFT-CDO-ALLDAYEVENT:FALSE
SUMMARY:Economic Development Committee Meeting
DESCRIPTION:
X-ALT-DESC;FMTTYPE=text/html:
LOCATION:San Diego North Chamber of Commerce 10875 Rancho Bernardo Road Suite 104 San Diego CA 92127
UID:e.784.1835
SEQUENCE:3
DTSTAMP:20260422T225713Z
URL:https://chamber.sdbusinesschamber.com/events/details/economic-development-committee-meeting-01-10-2012-1835
END:VEVENT

END:VCALENDAR
