BEGIN:VCALENDAR
VERSION:2.0
PRODID:-//ChamberMaster//Event Calendar 2.0//EN
METHOD:PUBLISH
X-PUBLISHED-TTL:P3D
REFRESH-INTERVAL:P3D
CALSCALE:GREGORIAN
BEGIN:VEVENT
DTSTART:20201101T000000Z
DTEND:20201101T020000Z
X-MICROSOFT-CDO-ALLDAYEVENT:FALSE
SUMMARY:Drive Through Haunted House and Live Circus Show at Gyminny Kids
DESCRIPTION:Make Gyminny Kids Gymnastics a destination on Halloween Day! We are providing a FREE haunted and funhouse drive through\, age-appropriate. You may drive through one or both. Activities include a live circus show\, photo ops\, dress your car for upgraded goodie bags. Gyminny's Spooky Drive Through is open to the public 10/31\, 5-7 pm.
X-ALT-DESC;FMTTYPE=text/html:<span style="color:rgb(5\, 5\, 5)\; font-family:segoe ui historic\,segoe ui\,helvetica\,arial\,sans-serif\; font-size:15px">Make Gyminny Kids Gymnastics a destination on Halloween Day! We are providing a FREE haunted and funhouse drive through\, age-appropriate. You may drive through one or both. Activities include a live circus show\, photo ops\, dress your car for upgraded goodie bags. Gyminny&rsquo\;s Spooky Drive Through is open to the public 10/31\, 5-7 pm. </span>
LOCATION:Gyminny Kids Gymnastics 17022 Camino San Bernardo San Diego\, CA 92127
UID:e.784.26250
SEQUENCE:3
DTSTAMP:20260425T210608Z
URL:https://chamber.sdbusinesschamber.com/events/details/drive-through-haunted-house-and-live-circus-show-at-gyminny-kids-26250
END:VEVENT

END:VCALENDAR
