BEGIN:VCALENDAR
VERSION:2.0
PRODID:-//ChamberMaster//Event Calendar 2.0//EN
METHOD:PUBLISH
X-PUBLISHED-TTL:P3D
REFRESH-INTERVAL:P3D
CALSCALE:GREGORIAN
BEGIN:VEVENT
DTSTART:20111112T210000Z
DTEND:20111112T220000Z
X-MICROSOFT-CDO-ALLDAYEVENT:FALSE
SUMMARY:Dr. Melanie Palm presents at Head to Toe Women's Expo
DESCRIPTION:A clear\, healthy\, glowing complexion is the key to youthful appearing skin that looks up to 2 decades younger than our actual age! Put your best face forward with Dr. Melanie Palm's "Fall into Great Skin" lecture at this year's Head to Toe Women's Expo on November 12th at the Del Mar Fairgrounds.\n\n\n\nDr. Melanie Palm\, expert dermatologist\, cosmetic surgeon & 2011 elite speaker for Scripps Memorial Hospital - Encinitas\, will present her fun and informative women's health lecture on Saturday\, November 12th at 1pm. Dr. Palm will discuss how to maximize the appearance of your skin with proper sun protection and topical regimens. Additionally\, attendees will learn how cutting edge laser\, injectable\, and fat technology can be used through minimally invasive techniques to rejuvenate the skin and create a natural\, aesthetically pleasing appearance.\n\n\n\nThe Head to Toe Women's Expo returns to the Del Mar Fairgrounds November 11\, 12 & 13 giving mothers\, daughters and girlfriends a chance to run wild during a weekend of inspiration\, education and entertainment.\n\n\n\nThe fun begins with exhibits featuring all the luxuries that gals love   apparel\, jewelry\, handbags\, makeup and skin-care products\; spa services\; health and fitness products\; gourmet foods\; and designer items and services for the home   plus a fashion show\, complimentary wine tasting\, a 5K Run/Walk and a chance to win prizes each day.\n\n\n\nDr. Palm's presentation "Fall into Great Skin" is hosted by Scripps Health and takes place in the exhibition hall. Complimentary & private skin cancer screenings by Dr. Palm will follow the talk on Saturday afternoon to raise awareness about early detection & prevention of melanoma.\n\n\n\nFor more information and to purchase your tickets online\, please visit:\n\nhttp://www.headtotoewomensexpo.com/.\n\n\n\nDr. Melanie Palm is a board-certified dermatologist and cosmetic surgeon at Surfside Dermatology in Encinitas\, where she offers a full-spectrum of both medical and cosmetic dermatology.\n\n\n\nKnown as a rising star in the medical community\, Dr. Palm graduated with high distinction from the University of Chicago Pritzker School of Medicine and also received her MBA at the Booth Graduate School of Business. She is the nation's youngest doctor to become an educational consultant and physician trainer for Sculptra Aesthetic\, which is a unique revolumizing agent for the face. This elite group of physicians only instructs dermatologists\, plastic surgeons\, and oculoplastic surgeons because of the rigorous nature of the training program.\n\n\n\nDr. Palm lectures nationally and internationally on laser and filler technology. She is also an accomplished writer and has published several research articles in peer-reviewed literature. Her work has been awarded by the Young Investigator's Writing Competition from the journal Dermatologic Surgery and the organization the American Society for Dermatologic Surgery.\n\n\n\nDr. Palm enjoys being active in the philanthropic community of San Diego. Throughout the year she partners with like-minded businesses to raise money for the Skin Cancer Foundation & to provide complimentary skin cancer screenings outside of her medical office. She regularly volunteers her services for fundraising events\, and is a volunteer physician at UC-San Diego's VA hospital.
X-ALT-DESC;FMTTYPE=text/html:A clear\, healthy\, glowing complexion is the key to youthful appearing skin that looks up to 2 decades younger than our actual age! Put your best face forward with Dr. Melanie Palm&rsquo\;s &ldquo\;Fall into Great Skin&rdquo\; lecture at this year&rsquo\;s Head to Toe Women&rsquo\;s Expo on November 12th at the Del Mar Fairgrounds.<br />\n<br />\nDr. Melanie Palm\, expert dermatologist\, cosmetic surgeon &amp\; 2011 elite speaker for Scripps Memorial Hospital - Encinitas\, will present her fun and informative women&rsquo\;s health lecture on Saturday\, November 12th at 1pm. Dr. Palm will discuss how to maximize the appearance of your skin with proper sun protection and topical regimens. Additionally\, attendees will learn how cutting edge laser\, injectable\, and fat technology can be used through minimally invasive techniques to rejuvenate the skin and create a natural\, aesthetically pleasing appearance.<br />\n<br />\nThe Head to Toe Women&rsquo\;s Expo returns to the Del Mar Fairgrounds November 11\, 12 &amp\; 13 giving mothers\, daughters and girlfriends a chance to run wild during a weekend of inspiration\, education and entertainment.<br />\n<br />\nThe fun begins with exhibits featuring all the luxuries that gals love &mdash\; apparel\, jewelry\, handbags\, makeup and skin-care products\; spa services\; health and fitness products\; gourmet foods\; and designer items and services for the home &mdash\; plus a fashion show\, complimentary wine tasting\, a 5K Run/Walk and a chance to win prizes each day.<br />\n<br />\nDr. Palm&rsquo\;s presentation &ldquo\;Fall into Great Skin&rdquo\; is hosted by Scripps Health and takes place in the exhibition hall. Complimentary &amp\; private skin cancer screenings by Dr. Palm will follow the talk on Saturday afternoon to raise awareness about early detection &amp\; prevention of melanoma.<br />\n<br />\nFor more information and to purchase your tickets online\, please visit:<br />\n<a href="http://www.headtotoewomensexpo.com/">http://www.headtotoewomensexpo.com/</a>.<br />\n<br />\n<em>Dr. Melanie Palm is a board-certified dermatologist and cosmetic surgeon at Surfside Dermatology in Encinitas\, where she offers a full-spectrum of both medical and cosmetic dermatology.<br />\n<br />\nKnown as a rising star in the medical community\, Dr. Palm graduated with high distinction from the University of Chicago Pritzker School of Medicine and also received her MBA at the Booth Graduate School of Business. She is the nation&rsquo\;s youngest doctor to become an educational consultant and physician trainer for Sculptra&reg\;Aesthetic\, which is a unique revolumizing agent for the face. This elite group of physicians only instructs dermatologists\, plastic surgeons\, and oculoplastic surgeons because of the rigorous nature of the training program.<br />\n<br />\nDr. Palm lectures nationally and internationally on laser and filler technology. She is also an accomplished writer and has published several research articles in peer-reviewed literature. Her work has been awarded by the Young Investigator&#39\;s Writing Competition from the journal <strong>Dermatologic Surgery </strong>and the organization the <strong>American Society for Dermatologic Surgery</strong>.<br />\n<br />\nDr. Palm enjoys being active in the philanthropic community of San Diego. Throughout the year she partners with like-minded businesses to raise money for the Skin Cancer Foundation &amp\; to provide complimentary skin cancer screenings outside of her medical office. She regularly volunteers her services for fundraising events\, and is a volunteer physician at UC-San Diego&rsquo\;s VA hospital. </em><br />\n<br />\n
LOCATION:Del Mar Fairgrounds
UID:e.784.2500
SEQUENCE:3
DTSTAMP:20260423T001800Z
URL:https://chamber.sdbusinesschamber.com/events/details/dr-melanie-palm-presents-at-head-to-toe-women-s-expo-11-12-2011-2500
END:VEVENT

END:VCALENDAR
