BEGIN:VCALENDAR
VERSION:2.0
PRODID:-//ChamberMaster//Event Calendar 2.0//EN
METHOD:PUBLISH
X-PUBLISHED-TTL:P3D
REFRESH-INTERVAL:P3D
CALSCALE:GREGORIAN
BEGIN:VEVENT
DTSTART:20130501T230000Z
DTEND:20130502T030000Z
X-MICROSOFT-CDO-ALLDAYEVENT:FALSE
SUMMARY:DotCom San Diego Small Business Internet Marketing Crash Course
DESCRIPTION:This workshop is so effective is 100% guarenteed\n\n\n\nGreg Writer\, Master Marketer and CEO at DotCom San Diego wants to share with you ALL the Secrets that he has accumulated over the years that are sure to make you loook like a genuis and blow away your competition.\n\n\n\nYou will learn how to market ANY product or service online by drving quality traffic to your website and learning the best techniques used online\, while building YOUR confidence and knowledge that will make you a powerhouse online guru that is sure to EXPLODE your income!\n\n\n\nWhen you are willing to undertake our GUARANTEED 4 hour Small Business Internet Marketing Crash Course\, Greg will take you by the hand and personally teach you the "right" way for marketing your small business online!\n\n\n\nHeres just some of the topics and secrets Greg will cover:\n\n- Attracting Leads\n\n- How to Generate a Customer List That Will Buy From You Over and Over on Auto Pilot\n\n- Increase Your Website Traffic Opt-in subscribers by 500%\n\n- The Magic Bullet to Success online\n\n- Social Media Marketing\n\n- Mobile Marketing\n\n-Conversion Optimization\n\n\n\nTo Get a Taste Of How You Should Be Using The Internet In YOUR Business Dont Miss Our Workshop!
X-ALT-DESC;FMTTYPE=text/html:This workshop is so effective is 100% guarenteed<br />\n<br />\nGreg Writer\, Master Marketer and CEO at DotCom San Diego wants to share with you ALL the Secrets that&nbsp\;he has accumulated over the years that are sure to make you loook like a genuis and blow away your competition.<br />\n<br />\nYou will learn how to market ANY product or service online by drving quality traffic to your website and learning the best techniques used online\, while building YOUR confidence and knowledge that will make you a powerhouse online guru that is sure to EXPLODE your income!<br />\n<br />\nWhen you are willing to undertake our GUARANTEED 4 hour Small Business Internet Marketing Crash Course\, Greg will take you by the hand and personally teach you the &quot\;right&quot\; way for marketing your small business online!<br />\n<br />\nHeres just some of the topics and secrets Greg will cover:<br />\n- Attracting Leads<br />\n- How to Generate a Customer List That Will Buy From You Over and Over on Auto Pilot<br />\n- Increase Your Website Traffic Opt-in subscribers by 500%<br />\n- The Magic Bullet to Success online<br />\n- Social Media Marketing<br />\n- Mobile Marketing<br />\n-Conversion Optimization<br />\n<br />\nTo Get a Taste Of How You Should Be Using The Internet In YOUR Business Dont Miss Our Workshop!
LOCATION:Escondido Chamber of Commerce 720 N. Broadway Escondido\, CA 92025
UID:e.784.2876
SEQUENCE:3
DTSTAMP:20260421T210700Z
URL:https://chamber.sdbusinesschamber.com/events/details/dotcom-san-diego-small-business-internet-marketing-crash-course-05-01-2013-2876
END:VEVENT

END:VCALENDAR
