BEGIN:VCALENDAR
VERSION:2.0
PRODID:-//ChamberMaster//Event Calendar 2.0//EN
METHOD:PUBLISH
X-PUBLISHED-TTL:P3D
REFRESH-INTERVAL:P3D
CALSCALE:GREGORIAN
BEGIN:VEVENT
DTSTART:20111007T170000Z
DTEND:20111007T200000Z
X-MICROSOFT-CDO-ALLDAYEVENT:FALSE
SUMMARY:Doing Business With the Government
DESCRIPTION:Is Government Contracting An Opportunity for Your Business?\n\n	How Can You Get MORE Contracts?\n\n	What Financing Options Are Available for Your Business?\n\n	\n\n	ASK the Experts at "Doing Business with the Government" Legislature Series!\n\n	With Special Guest Representative Brian Bilbray\n\n\nAnd Experts From:\n\n\n	\n		The Small Business Development Center (SBDC)\n	\n		The Department of General Services\n	\n		San Diego Community College District\n	\n		SPAWAR\n	\n		San Diego County Water Authority\n	\n		General Atomics\n	\n		SBA\n	\n		Accion\,\n	\n		CDC Small Business Finance\n	\n		Capital Partners\n	\n		Wells Fargo\n	\n		Southern CA Small Business Development Corporation\n\n\n\nDoing Business With The Government can help small businesses increase revenues and create jobs through government contracting opportunities and financing.
X-ALT-DESC;FMTTYPE=text/html:<p style="text-align: center\;">\n	<span style="font-size:14px\;">Is Government Contracting An Opportunity for Your Business?<br />\n	How Can You Get MORE Contracts?<br />\n	What Financing Options Are Available for Your Business?<br />\n	<br />\n	ASK the Experts at &ldquo\;Doing Business with the Government&rdquo\; Legislature Series!<br />\n	With Special Guest Representative Brian Bilbray</span></p>\n<br />\n<span style="font-size:12px\;">And Experts From:</span><br />\n<ul>\n	<li>\n		<span style="font-size:12px\;">The Small Business Development Center (SBDC)</span></li>\n	<li>\n		<span style="font-size:12px\;">The Department of General Services</span></li>\n	<li>\n		<span style="font-size:12px\;">San Diego Community College District</span></li>\n	<li>\n		<span style="font-size:12px\;">SPAWAR</span></li>\n	<li>\n		<span style="font-size:12px\;">San Diego County Water Authority</span></li>\n	<li>\n		<span style="font-size:12px\;">General Atomics</span></li>\n	<li>\n		<span style="font-size:12px\;">SBA</span></li>\n	<li>\n		<span style="font-size:12px\;">Accion\,</span></li>\n	<li>\n		<span style="font-size:12px\;">CDC Small Business Finance</span></li>\n	<li>\n		<span style="font-size:12px\;">Capital Partners</span></li>\n	<li>\n		<span style="font-size:12px\;">Wells Fargo</span></li>\n	<li>\n		<span style="font-size:12px\;">Southern CA Small Business Development Corporation</span></li>\n</ul>\n<br />\n<span style="font-size:12px\;">Doing Business With The Government can help small businesses increase revenues and create jobs through government contracting opportunities and financing.</span>
LOCATION:Scripps Miramar Ranch Library 10301 Scripps Lake Dr San Diego CA (parking at the bottom of the hill - please follow the signs)
UID:e.784.2455
SEQUENCE:3
DTSTAMP:20260423T025448Z
URL:https://chamber.sdbusinesschamber.com/events/details/doing-business-with-the-government-10-07-2011-2455
END:VEVENT

END:VCALENDAR
