BEGIN:VCALENDAR
VERSION:2.0
PRODID:-//ChamberMaster//Event Calendar 2.0//EN
METHOD:PUBLISH
X-PUBLISHED-TTL:P3D
REFRESH-INTERVAL:P3D
CALSCALE:GREGORIAN
BEGIN:VEVENT
DTSTART:20110804T160000Z
DTEND:20110804T190000Z
X-MICROSOFT-CDO-ALLDAYEVENT:FALSE
SUMMARY:Doing Business With the Government
DESCRIPTION:Learn about current opportunities and how to market products and services to government agencies and big businesses. \n\n\n\nThe U.S. Government is the largest consumer of products and services in the world.  They purchase professional consulting and contracting services\, equipment\, food\, office & cleaning supplies\, temporary staffing\, promotional products\, clothing\,toiletries\,fish food\, & more.\n\n\n\nJoin Assemblyman Fletcher and  the Business and Entrepreneurship Center (BEC) for an action packed training workshop with the Small Business Development Center's (SBDC) experts and buyers from: Caltrans\, Department of General Services\,SANDAG\, San Diego Community College District\, and more.
X-ALT-DESC;FMTTYPE=text/html:<strong>Learn about current opportunities and how to market products and services to government agencies and big businesses. </strong><br />\n<br />\nThe U.S. Government is the largest consumer of products and services in the world.&nbsp\; They purchase professional consulting and contracting services\, equipment\, food\, office &amp\; cleaning supplies\, temporary staffing\, promotional products\, clothing\,toiletries\,fish food\, &amp\; more.<br />\n<br />\nJoin Assemblyman Fletcher and&nbsp\; the Business and Entrepreneurship Center (BEC) for an action packed training workshop with the Small Business Development Center&rsquo\;s (SBDC) experts and buyers from: Caltrans\, Department of General Services\,SANDAG\, San Diego Community College District\, and more.
LOCATION:Mira Mesa Public Library 8405 New Salem St. San Diego\,CA
UID:e.784.2318
SEQUENCE:3
DTSTAMP:20260423T042212Z
URL:https://chamber.sdbusinesschamber.com/events/details/doing-business-with-the-government-08-04-2011-2318
END:VEVENT

END:VCALENDAR
