BEGIN:VCALENDAR
VERSION:2.0
PRODID:-//ChamberMaster//Event Calendar 2.0//EN
METHOD:PUBLISH
X-PUBLISHED-TTL:P3D
REFRESH-INTERVAL:P3D
CALSCALE:GREGORIAN
BEGIN:VEVENT
DTSTART:20200912T170000Z
DTEND:20200912T220000Z
X-MICROSOFT-CDO-ALLDAYEVENT:FALSE
SUMMARY:DogFest San Diego
DESCRIPTION:Join the fun at DogFest San Diego\, the best family- and dog-friendly virtual event of the year.  Just because we can't be together in person this year doesn't mean we can't still have a great time! Celebrating our canine friends and the impact they have on our lives is what DogFest is all about. So get ready to share your favorite dog tricks\, see fun training videos\, participate in virtual activities and much more all while supporting the mission of Canine Companions for Independence !
X-ALT-DESC;FMTTYPE=text/html:<p>Join the fun at <strong>DogFest San Diego\,</strong> the best family- and dog-friendly virtual event of the year. &nbsp\;Just because we can&rsquo\;t be together in person this year doesn&rsquo\;t mean we can&rsquo\;t still have a great time! Celebrating our canine friends and the impact they have on our lives is what DogFest is all about. So get ready to share your favorite dog tricks\, see fun training videos\, participate in virtual activities and much more all while supporting the mission of Canine Companions for Independence<sup>&reg\;</sup>!</p>\n
LOCATION:Virtual Online Event
UID:e.784.23275
SEQUENCE:3
DTSTAMP:20260425T210302Z
URL:https://chamber.sdbusinesschamber.com/events/details/dogfest-san-diego-23275
END:VEVENT

END:VCALENDAR
