BEGIN:VCALENDAR
VERSION:2.0
PRODID:-//ChamberMaster//Event Calendar 2.0//EN
METHOD:PUBLISH
X-PUBLISHED-TTL:P3D
REFRESH-INTERVAL:P3D
CALSCALE:GREGORIAN
BEGIN:VEVENT
DTSTART;VALUE=DATE:20101018
DTEND;VALUE=DATE:20101019
TRANSP:TRANSPARENT
X-MICROSOFT-CDO-ALLDAYEVENT:TRUE
SUMMARY:DIstrict 50 Congressional Debate
DESCRIPTION:San Diego North Chamber will host the District 50 Congressional Debate at Del Norte High School's Performing Arts Center Monday\, October 18th from 5:30   7:30PM.\n\n	\n\n	Speakers invited to participate include Congressmen Brian Bilbray\, Francine Busby\, Miriam Clark\, and Lars Grossmith. The Debate will cover topics relating to District 50 such as jobs in our economy\, small business\, health care and more.\n\n	 \n\n	SDNCC encourages the public to attend this free event.
X-ALT-DESC;FMTTYPE=text/html:<p>\n	<span style="font-family: arial"><span style="font-size: 10pt">San Diego North Chamber will host the District 50 Congressional Debate at Del Norte High School&rsquo\;s Performing Arts Center Monday\, October 18<sup>th&nbsp\;</sup>from 5:30 &ndash\; 7:30PM.<br />\n	<br />\n	Speakers invited to participate include Congressmen Brian Bilbray\, Francine Busby\, Miriam Clark\, and Lars Grossmith.&nbsp\;</span><span style="font-size: 10pt">The Debate will cover topics relating to District 50 such as jobs in our economy\, small business\, health care and more.</span><br />\n	&nbsp\;<br />\n	<span style="font-size: 10pt">SDNCC encourages the public&nbsp\;</span><span style="font-size: 10pt">to attend this free event. </span></span></p>\n
LOCATION:Del Norte High School's Performing Arts Center 16601 Nighthawk Lane San Diego CA 92127
UID:e.784.1834
SEQUENCE:3
DTSTAMP:20260423T182910Z
URL:https://chamber.sdbusinesschamber.com/events/details/district-50-congressional-debate-10-18-2010-1834
END:VEVENT

END:VCALENDAR
