BEGIN:VCALENDAR
VERSION:2.0
PRODID:-//ChamberMaster//Event Calendar 2.0//EN
METHOD:PUBLISH
X-PUBLISHED-TTL:P3D
REFRESH-INTERVAL:P3D
CALSCALE:GREGORIAN
BEGIN:VEVENT
DTSTART:20191030T150000Z
DTEND:20191030T190000Z
X-MICROSOFT-CDO-ALLDAYEVENT:FALSE
SUMMARY:Difficult Conversations
DESCRIPTION:Many business situations challenge even the most experienced and skillful communicator. Whether you are facing a difficult conversation with a stakeholder\, colleague or employee\, how you handle these conversations can determine your success or failure. Take the skills learned in this course and start applying them immediately for the confidence and camaraderie that gets you the results you need to succeed.
X-ALT-DESC;FMTTYPE=text/html:<span style="color:rgb(66\, 66\, 66)\; font-family:roboto\,sans-serif\; font-size:18px">Many business situations challenge even the most experienced and skillful communicator. Whether you are facing a difficult conversation with a stakeholder\, colleague or employee\, how you handle these conversations can determine your success or failure. Take the skills learned in this course and start applying them immediately for the confidence and camaraderie that gets you the results you need to succeed.</span>
LOCATION:UCSD Rady School of Management
UID:e.784.22854
SEQUENCE:3
DTSTAMP:20260421T095045Z
URL:https://chamber.sdbusinesschamber.com/events/details/difficult-conversations-22854
END:VEVENT

END:VCALENDAR
