BEGIN:VCALENDAR
VERSION:2.0
PRODID:-//ChamberMaster//Event Calendar 2.0//EN
METHOD:PUBLISH
X-PUBLISHED-TTL:P3D
REFRESH-INTERVAL:P3D
CALSCALE:GREGORIAN
BEGIN:VEVENT
DTSTART;VALUE=DATE:20130710
DTEND;VALUE=DATE:20130713
TRANSP:TRANSPARENT
X-MICROSOFT-CDO-ALLDAYEVENT:TRUE
SUMMARY:Cybersecurity Workshop
DESCRIPTION:Organizer: National Institute of Standards and Technology (NIST)\n\n	Hosts: National Healthcare ISAC & University of California\, San Diego\n\n	 \n\n	The recent Executive Order 13636 called for NIST to work with industry to develop a set of voluntary standards and best practices to reduce cyber risks to critical infrastructure that is vital to the nation's economy\, security and daily life. NIST is inviting cybersecurity experts\, industry and academia from across the nation to attend one of its regional workshops at UC San Diego to identify\, refine and guide the many interrelated considerations\, challenges and efforts needed to build this framework.\n\n	 \n\n	Please join civic\, business\, academic communities and lend your voice to the process and its outcome. NIST is interested in collecting information about current risk management practices\; use of frameworks\, standards\, guidelines and best practices\; and specific industry practices. The majority of the workshop will consist of working groups\, providing an opportunity for attendees for discussion and feedback. Due to space limitations\, registration for this workshop will be limited to 600 participants. Plenary sessions will be webcast and reports on breakout sessions will be available after the workshop.\n\n	 \n\n	Registration and more information is available at: http://www.nist.gov/itl/csd/3rd-cybersecurity-framework-workshop-july-10-12-2013-san-diego-ca.cfm\n\n	 \n\n	Please also visit www.cyber-workshop.com to find more information about events that will be taking place around the workshop (but separate from NIST).  The website will also provide you with information about sponsorship opportunities\, FAQs and hotel information.\n\n	The workshop is being hosted by NH-ISAC and UC San Diego\, with plenary sessions held on campus at the Mandeville Auditorium\, 9500 Gilman Drive\, La Jolla\, CA 92093.\n\n	 \n\n	For more information\, please contact: Warren Froelich - froelich@sdsc.edu\, Liz Fraumann   lfraumann@securingourecity.org or Lori Wilson - lwilson@nhisac.org
X-ALT-DESC;FMTTYPE=text/html:<p align="center" class="MsoNormal" style="margin: 0in 0in 0pt\; text-align: center\; line-height: normal\;">\n	<font color="#000000"><font face="Calibri"><b><span style="font-size: 12pt\; mso-fareast-font-family: &quot\;Times New Roman&quot\;\; mso-bidi-font-family: &quot\;Times New Roman&quot\;\;">Organizer: National Institute of Standards and Technology (NIST)</span></b><span style="font-size: 12pt\; mso-fareast-font-family: &quot\;Times New Roman&quot\;\; mso-bidi-font-family: &quot\;Times New Roman&quot\;\;"><o:p></o:p></span></font></font></p>\n<p align="center" class="MsoNormal" style="margin: 0in 0in 0pt\; text-align: center\; line-height: normal\;">\n	<b><span style="font-size: 12pt\; mso-fareast-font-family: &quot\;Times New Roman&quot\;\; mso-bidi-font-family: &quot\;Times New Roman&quot\;\;"><font color="#000000"><font face="Calibri">Hosts: National Healthcare ISAC &amp\; University of California\, San Diego<o:p></o:p></font></font></span></b></p>\n<p align="center" class="MsoNormal" style="margin: 0in 0in 0pt\; text-align: center\; line-height: normal\;">\n	<span style="font-size: 12pt\; mso-fareast-font-family: &quot\;Times New Roman&quot\;\; mso-bidi-font-family: &quot\;Times New Roman&quot\;\;"><o:p><font color="#000000" face="Calibri">&nbsp\;</font></o:p></span></p>\n<p class="MsoNormal" style="margin: 0in 0in 0pt\; line-height: normal\;">\n	<span style="font-size: 12pt\; mso-fareast-font-family: &quot\;Times New Roman&quot\;\; mso-bidi-font-family: &quot\;Times New Roman&quot\;\;"><font color="#000000" face="Calibri">The recent </font></span><a href="http://www.dhs.gov/publication/fact-sheet-eo-13636-improving-critical-infrastructure-cybersecurity-and-ppd-21-critical"><span style="font-size: 12pt\; mso-fareast-font-family: &quot\;Times New Roman&quot\;\; mso-bidi-font-family: &quot\;Times New Roman&quot\;\;"><font face="Calibri">Executive Order 13636</font></span></a><span style="font-size: 12pt\; mso-fareast-font-family: &quot\;Times New Roman&quot\;\; mso-bidi-font-family: &quot\;Times New Roman&quot\;\;"><font color="#000000"><font face="Calibri"> called for NIST to work with industry to develop a set of voluntary standards and best practices to reduce cyber risks to critical infrastructure that is vital to the nation&rsquo\;s economy\, security and daily life. NIST is inviting cybersecurity experts\, industry and academia from across the nation to attend one of its regional workshops at UC San Diego to identify\, refine and guide the many interrelated considerations\, challenges and efforts needed to build this framework.<o:p></o:p></font></font></span></p>\n<p class="MsoNormal" style="margin: 0in 0in 0pt\; line-height: normal\;">\n	<span style="font-size: 12pt\; mso-fareast-font-family: &quot\;Times New Roman&quot\;\; mso-bidi-font-family: &quot\;Times New Roman&quot\;\;"><o:p><font color="#000000" face="Calibri">&nbsp\;</font></o:p></span></p>\n<p class="MsoNormal" style="margin: 0in 0in 0pt\; line-height: normal\;">\n	<span style="font-size: 12pt\; mso-fareast-font-family: &quot\;Times New Roman&quot\;\; mso-bidi-font-family: &quot\;Times New Roman&quot\;\;"><font color="#000000"><font face="Calibri">Please join civic\, business\, academic communities and lend your voice to the process and its outcome. NIST is interested in collecting information about current risk management practices\; use of frameworks\, standards\, guidelines and best practices\; and specific industry practices. The majority of the workshop will consist of working groups\, providing an opportunity for attendees for discussion and feedback. Due to space limitations\, registration for this workshop will be limited to 600 participants. Plenary sessions will be webcast and reports on breakout sessions will be available after the workshop.<o:p></o:p></font></font></span></p>\n<p class="MsoNormal" style="margin: 0in 0in 0pt\; line-height: normal\;">\n	<span style="font-size: 12pt\; mso-fareast-font-family: &quot\;Times New Roman&quot\;\; mso-bidi-font-family: &quot\;Times New Roman&quot\;\;"><o:p><font color="#000000" face="Calibri">&nbsp\;</font></o:p></span></p>\n<p align="center" class="MsoNormal" style="margin: 0in 0in 0pt\; text-align: center\; line-height: normal\;">\n	<span style="font-size: 12pt\; mso-fareast-font-family: &quot\;Times New Roman&quot\;\; mso-bidi-font-family: &quot\;Times New Roman&quot\;\;"><font face="Calibri"><font color="#000000">Registration and more information is available at:</font><b style="mso-bidi-font-weight: normal\;"><span style="color: rgb(75\, 172\, 198)\; mso-themecolor: accent5\;"> </span></b></font></span><a href="http://www.nist.gov/itl/csd/3rd-cybersecurity-framework-workshop-july-10-12-2013-san-diego-ca.cfm"><b style="mso-bidi-font-weight: normal\;"><u><span style="color: rgb(54\, 95\, 145)\; mso-themecolor: accent1\; mso-themeshade: 191\;"><font face="Calibri" size="3">http://www.nist.gov/itl/csd/3rd-cybersecurity-framework-workshop-july-10-12-2013-san-diego-ca.cfm</font></span></u></b></a></p>\n<p align="center" class="MsoNormal" style="margin: 0in 0in 0pt\; text-align: center\; line-height: normal\;">\n	<o:p><font color="#000000" face="Calibri" size="3">&nbsp\;</font></o:p></p>\n<p class="MsoNormal" style="margin: 0in 0in 10pt\; mso-margin-top-alt: auto\; mso-margin-bottom-alt: auto\;">\n	<font size="3"><font face="Calibri"><font color="#000000">Please also visit </font><span class="MsoHyperlink"><b style="mso-bidi-font-weight: normal\;"><u><span style="color: rgb(54\, 95\, 145)\; font-family: &quot\;Calibri&quot\;\,&quot\;sans-serif&quot\;\; mso-bidi-font-family: &quot\;Times New Roman&quot\;\; mso-ascii-theme-font: minor-latin\; mso-hansi-theme-font: minor-latin\; mso-bidi-theme-font: minor-bidi\; mso-themecolor: accent1\; mso-themeshade: 191\;">www.cyber-workshop.com</span></u></b></span><font color="#000000"> to find more information about events </font></font><span style="line-height: 115%\; font-family: &quot\;Times New Roman&quot\;\,&quot\;serif&quot\;\; font-size: 12pt\; mso-fareast-font-family: &quot\;Times New Roman&quot\;\;"><font color="#000000">that will be taking place around the workshop (but separate from NIST).&nbsp\; The website will also provide you with information about sponsorship opportunities\, FAQs and hotel information.<o:p></o:p></font></span></font></p>\n<p class="MsoNormal" style="margin: 0in 0in 0pt\; line-height: normal\;">\n	<a name="_GoBack"></a><span style="font-size: 12pt\; mso-fareast-font-family: &quot\;Times New Roman&quot\;\; mso-bidi-font-family: &quot\;Times New Roman&quot\;\;"><font color="#000000"><font face="Calibri">The workshop is being hosted by NH-ISAC and UC San Diego\, with plenary sessions held on campus at the Mandeville Auditorium\, 9500 Gilman Drive\, La Jolla\, CA 92093.<o:p></o:p></font></font></span></p>\n<p class="MsoNormal" style="margin: 0in 0in 0pt\; line-height: normal\;">\n	<span style="font-size: 12pt\; mso-fareast-font-family: &quot\;Times New Roman&quot\;\; mso-bidi-font-family: &quot\;Times New Roman&quot\;\;"><o:p><font color="#000000" face="Calibri">&nbsp\;</font></o:p></span></p>\n<p class="MsoNormal" style="margin: 0in 0in 0pt\; line-height: normal\;">\n	<span style="font-size: 12pt\; mso-fareast-font-family: &quot\;Times New Roman&quot\;\; mso-bidi-font-family: &quot\;Times New Roman&quot\;\;"><font color="#000000" face="Calibri">For more information\, please contact: Warren Froelich - </font></span><a href="mailto:froelich@sdsc.edu"><span style="font-size: 12pt\; mso-fareast-font-family: &quot\;Times New Roman&quot\;\; mso-bidi-font-family: &quot\;Times New Roman&quot\;\;"><font face="Calibri">froelich@sdsc.edu</font></span></a><span style="font-size: 12pt\; mso-fareast-font-family: &quot\;Times New Roman&quot\;\; mso-bidi-font-family: &quot\;Times New Roman&quot\;\;"><font color="#000000"><font face="Calibri">\, Liz Fraumann &ndash\; lfraumann@securingourecity.org or Lori Wilson - lwilson@nhisac.org<o:p></o:p></font></font></span></p>\n
LOCATION:UCSD
UID:e.784.2908
SEQUENCE:3
DTSTAMP:20260421T173009Z
URL:https://chamber.sdbusinesschamber.com/events/details/cybersecurity-workshop-07-10-2013-2908
END:VEVENT

END:VCALENDAR
