BEGIN:VCALENDAR
VERSION:2.0
PRODID:-//ChamberMaster//Event Calendar 2.0//EN
METHOD:PUBLISH
X-PUBLISHED-TTL:P3D
REFRESH-INTERVAL:P3D
CALSCALE:GREGORIAN
BEGIN:VEVENT
DTSTART:20101116T153000Z
DTEND:20101116T170000Z
X-MICROSOFT-CDO-ALLDAYEVENT:FALSE
SUMMARY:Cyber Crime Foundation Workshop
DESCRIPTION:Is Your Organization Protected From Identity Theft\, Phishing or Data Breach?\n\n\nNo one intends to become a victim. But\, with cybercrime the simple fact is we don't know WHAT we don't know. In today's world\, interactions between business and personal space are blurred\n\n\n	\n		Cybercrimes are preventable.\n	\n		Education is the #1 deterrent to cybercrime victimization.\n	\n		This principle serves as the backbone to Securing Our eCity\, a public-private partnership focused on prevention through education.\n	\n		Learn how you can take immediate steps to protect your organization while building a foundational understanding of cybersecurity best practices.\n\n\n	The session is interactive\, fun and educational\n\n	There will be prizes and free software to those who participate\n\n	About the Speaker\n\n	 \n\n	\n\n	Brandon Stigers is currently the Director of Training and Development for San Diego based ESET\, LLC. He is responsible for developing training curriculum to support ESET's staff\, consumers and partners. Brandon has particicpated in many cybersecurity and safety events around the world.
X-ALT-DESC;FMTTYPE=text/html:<h1>\n	<strong><span style="font-size: 12pt\;">Is Your Organization Protected From Identity Theft\, Phishing or Data Breach?</span></strong></h1>\n<br />\nNo one intends to become a victim. But\, with cybercrime the simple fact is we don&#39\;t know WHAT we don&#39\;t know. In today&#39\;s world\, interactions between business and personal space are blurred<br />\n<ul>\n	<li>\n		Cybercrimes are preventable.</li>\n	<li>\n		Education is the #1 deterrent to cybercrime victimization.</li>\n	<li>\n		This principle serves as the backbone to Securing Our eCity\, a public-private partnership focused on prevention through education.</li>\n	<li>\n		Learn how you can take immediate steps to protect your organization while building a foundational understanding of cybersecurity best practices.</li>\n</ul>\n<p style="text-align: center\;">\n	The session is interactive\, fun and educational<br />\n	There will be prizes and free software to those who participate</p>\n<h3>\n	About the Speaker</h3>\n<p>\n	&nbsp\;</p>\n<p>\n	<br />\n	Brandon Stigers is currently the Director of Training and Development for San Diego based ESET\, LLC. He is responsible for developing training curriculum to support ESET&#39\;s staff\, consumers and partners. Brandon has particicpated in many cybersecurity and safety events around the world.&nbsp\;</p>\n
LOCATION:Courtyard by Marriott 11611 Bernardo Plaza Court San Diego CA 92128
UID:e.784.2082
SEQUENCE:3
DTSTAMP:20260423T164630Z
URL:https://chamber.sdbusinesschamber.com/events/details/cyber-crime-foundation-workshop-11-16-2010-2082
END:VEVENT

END:VCALENDAR
