BEGIN:VCALENDAR
VERSION:2.0
PRODID:-//ChamberMaster//Event Calendar 2.0//EN
METHOD:PUBLISH
X-PUBLISHED-TTL:P3D
REFRESH-INTERVAL:P3D
CALSCALE:GREGORIAN
BEGIN:VEVENT
DTSTART:20110309T153000Z
DTEND:20110309T170000Z
X-MICROSOFT-CDO-ALLDAYEVENT:FALSE
SUMMARY:Cyber Crime Foundation Workshop
DESCRIPTION:Is Your Organization Protected FromIdentity Theft\, Phishing or Data Breach?
X-ALT-DESC;FMTTYPE=text/html:<h1>\n	<em><span style="font-size: 12pt\;">Is Your Organization Protected From</span></em><em><span style="font-size: 12pt\;">Identity Theft\, Phishing or Data Breach?</span></em></h1>\n
LOCATION:
UID:e.784.2083
SEQUENCE:3
DTSTAMP:20260423T113331Z
URL:https://chamber.sdbusinesschamber.com/events/details/cyber-crime-foundation-workshop-03-09-2011-2083
END:VEVENT

END:VCALENDAR
