BEGIN:VCALENDAR
VERSION:2.0
PRODID:-//ChamberMaster//Event Calendar 2.0//EN
METHOD:PUBLISH
X-PUBLISHED-TTL:P3D
REFRESH-INTERVAL:P3D
CALSCALE:GREGORIAN
BEGIN:VEVENT
DTSTART:20131016T143000Z
DTEND:20131016T160000Z
X-MICROSOFT-CDO-ALLDAYEVENT:FALSE
SUMMARY:Current Trends in Employee Retirement Savings Behavior
DESCRIPTION:Retirement Benefits Group presentation -  Trends in Employee Retirement Savings Behavior Recent changes in Federal fiduciary and regulatory  requirements place an increased level of  responsibility on HR and administration professionals that play a role in a company?s 401k and other retirement plans. You will leave this presentation having learned:    ?Trends in participant behavior (as it relates to saving for retirement)  ?Plan design features that can help improve participant out-comes  ? Industry trends to help you benchmark your plan  ?Legislative and Fiduciary Up-date\, including:  ?Discussion on the recent DOL publication on target date funds (what you need to know and do to comply)  ?Legislative Update: New proposed legislation that will affect any company sponsored retirement plan
X-ALT-DESC;FMTTYPE=text/html:Retirement Benefits Group presentation -&nbsp\; Trends in Employee Retirement Savings Behavior Recent changes in Federal fiduciary and regulatory &nbsp\;requirements place an increased level of &nbsp\;responsibility on HR and administration professionals that play a role in a company?s 401k and other retirement plans. You will leave this presentation having learned: &nbsp\; &nbsp\;?Trends in participant behavior (as it relates to saving for retirement) &nbsp\;?Plan design features that can help improve participant out-comes &nbsp\;? Industry trends to help you benchmark your plan &nbsp\;?Legislative and Fiduciary Up-date\, including: &nbsp\;?Discussion on the recent DOL publication on target date funds (what you need to know and do to comply) &nbsp\;?Legislative Update: New proposed legislation that will affect any company sponsored retirement plan
LOCATION:SDEA 4180 Ruffin Road Suite 295 San Diego\, CA 92123
UID:e.784.2972
SEQUENCE:3
DTSTAMP:20260421T143335Z
URL:https://chamber.sdbusinesschamber.com/events/details/current-trends-in-employee-retirement-savings-behavior-10-16-2013-2972
END:VEVENT

END:VCALENDAR
