BEGIN:VCALENDAR
VERSION:2.0
PRODID:-//ChamberMaster//Event Calendar 2.0//EN
METHOD:PUBLISH
X-PUBLISHED-TTL:P3D
REFRESH-INTERVAL:P3D
CALSCALE:GREGORIAN
BEGIN:VEVENT
DTSTART:20201105T003000Z
DTEND:20201105T013000Z
X-MICROSOFT-CDO-ALLDAYEVENT:FALSE
SUMMARY:CSML Speaker Series: Women’s Leadership in Tech
DESCRIPTION:The California School of Management and Leadership (CSML) at Alliant International University invites you to join our CSML Speaker Series. In this webinar series\, business leaders and experts will discuss innovative approaches and strategies in the fields of business\, management & leadership.\n\n\n\nSpeaker: Liliana Aide Monge\, Co-Founder/CEO of Sabio\n\n\n\nPlease join CSML on November 4\, 2020\, 4:30pm-5:30pm PT. The speaker\, Liliana Aide Monge\, will be discussing "Women's Leadership in Tech". You will learn why women should most certainly be an integral part of the innovation economy and how organizations are part of solution of the women-in-tech gap problem.
X-ALT-DESC;FMTTYPE=text/html:<span style="background-color:rgb(255\, 255\, 255)\; color:rgb(55\, 71\, 79)\; font-family:trade gothic\,sans-serif\; font-size:14px">The California School of Management and Leadership (CSML) at Alliant International University invites you to join our CSML Speaker Series. In this webinar series\, business leaders and experts will discuss innovative approaches and strategies in the fields of business\, management &amp\; leadership.</span><br />\n<br />\n<span style="background-color:rgb(255\, 255\, 255)\; color:rgb(55\, 71\, 79)\; font-family:trade gothic\,sans-serif\; font-size:14px">Speaker: Liliana Aide Monge\, Co-Founder/CEO of Sabio</span><br />\n<br />\n<span style="background-color:rgb(255\, 255\, 255)\; color:rgb(55\, 71\, 79)\; font-family:trade gothic\,sans-serif\; font-size:14px">Please join CSML on November 4\, 2020\, 4:30pm-5:30pm PT. The speaker\, Liliana Aide Monge\, will be discussing &ldquo\;Women&#39\;s Leadership in Tech&rdquo\;. You will learn why women should most certainly be an integral part of the innovation economy and how organizations are part of solution of the women-in-tech gap problem.</span>
LOCATION:Complimentary Webinar RSVP required: https://us02web.zoom.us/webinar/register/WN_fuI_4nedTiOnegacLoz11w
UID:e.784.26547
SEQUENCE:3
DTSTAMP:20260425T194715Z
URL:https://chamber.sdbusinesschamber.com/events/details/csml-speaker-series-women-s-leadership-in-tech-26547
END:VEVENT

END:VCALENDAR
