BEGIN:VCALENDAR
VERSION:2.0
PRODID:-//ChamberMaster//Event Calendar 2.0//EN
METHOD:PUBLISH
X-PUBLISHED-TTL:P3D
REFRESH-INTERVAL:P3D
CALSCALE:GREGORIAN
BEGIN:VEVENT
DTSTART:20131029T233000Z
DTEND:20131030T020000Z
X-MICROSOFT-CDO-ALLDAYEVENT:FALSE
SUMMARY:Courtyard by Marriott Renovation Cocktail Reception
DESCRIPTION:JOIN US IN CELEBRATING OUR RENOVATION! We?re really proud of our updated design and the story behind it. Have a drink and an appetizer on us\, let us tell you how we?re taking care of our guests and our community through Rest Better? by MindClick Global\, and come meet the New Management Team here at the Courtyard by Marriott Rancho Bernardo.
X-ALT-DESC;FMTTYPE=text/html:JOIN US IN CELEBRATING OUR RENOVATION! We?re really proud of our updated design and the story behind it. Have a drink and an appetizer on us\, let us tell you how we?re taking care of our guests and our community through Rest Better? by MindClick Global\, and come meet the New Management Team here at the Courtyard by Marriott Rancho Bernardo. 
LOCATION:11611 Bernardo Plaza Ct San Diego\, CA 92128
UID:e.784.2984
SEQUENCE:3
DTSTAMP:20260421T130016Z
URL:https://chamber.sdbusinesschamber.com/events/details/courtyard-by-marriott-renovation-cocktail-reception-10-29-2013-2984
END:VEVENT

END:VCALENDAR
