BEGIN:VCALENDAR
VERSION:2.0
PRODID:-//ChamberMaster//Event Calendar 2.0//EN
METHOD:PUBLISH
X-PUBLISHED-TTL:P3D
REFRESH-INTERVAL:P3D
CALSCALE:GREGORIAN
BEGIN:VEVENT
DTSTART:20091022T070000Z
DTEND:20091022T070000Z
X-MICROSOFT-CDO-ALLDAYEVENT:FALSE
SUMMARY:County Supervisor Pam Slater-Price
DESCRIPTION:
X-ALT-DESC;FMTTYPE=text/html:
LOCATION:Doubletree Golf Resort San Diego
UID:e.784.889
SEQUENCE:3
DTSTAMP:20260424T115950Z
URL:https://chamber.sdbusinesschamber.com/events/details/county-supervisor-pam-slater-price-10-22-2009-889
END:VEVENT

END:VCALENDAR
