BEGIN:VCALENDAR
VERSION:2.0
PRODID:-//ChamberMaster//Event Calendar 2.0//EN
METHOD:PUBLISH
X-PUBLISHED-TTL:P3D
REFRESH-INTERVAL:P3D
CALSCALE:GREGORIAN
BEGIN:VEVENT
DTSTART:20090806T070000Z
DTEND:20090806T070000Z
X-MICROSOFT-CDO-ALLDAYEVENT:FALSE
SUMMARY:Congressman Duncan Hunter
DESCRIPTION:
X-ALT-DESC;FMTTYPE=text/html:
LOCATION:TBD
UID:e.784.882
SEQUENCE:3
DTSTAMP:20260424T143556Z
URL:https://chamber.sdbusinesschamber.com/events/details/congressman-duncan-hunter-08-06-2009-882
END:VEVENT

END:VCALENDAR
