BEGIN:VCALENDAR
VERSION:2.0
PRODID:-//ChamberMaster//Event Calendar 2.0//EN
METHOD:PUBLISH
X-PUBLISHED-TTL:P3D
REFRESH-INTERVAL:P3D
CALSCALE:GREGORIAN
BEGIN:VEVENT
DTSTART:20090630T070000Z
DTEND:20090630T070000Z
X-MICROSOFT-CDO-ALLDAYEVENT:FALSE
SUMMARY:Congressman Brian Bilbray
DESCRIPTION:
X-ALT-DESC;FMTTYPE=text/html:
LOCATION:University of Phoenix
UID:e.784.875
SEQUENCE:3
DTSTAMP:20260424T170233Z
URL:https://chamber.sdbusinesschamber.com/events/details/congressman-brian-bilbray-06-30-2009-875
END:VEVENT

END:VCALENDAR
