BEGIN:VCALENDAR
VERSION:2.0
PRODID:-//ChamberMaster//Event Calendar 2.0//EN
METHOD:PUBLISH
X-PUBLISHED-TTL:P3D
REFRESH-INTERVAL:P3D
CALSCALE:GREGORIAN
BEGIN:VEVENT
DTSTART:20120904T143000Z
DTEND:20120904T160000Z
X-MICROSOFT-CDO-ALLDAYEVENT:FALSE
SUMMARY:Complimentary New Member Orientation & Breakfast
DESCRIPTION:
X-ALT-DESC;FMTTYPE=text/html:
LOCATION:San Diego North Chamber of Commerce 10875 Rancho Bernardo Road\, Suite 104 San Diego\, CA 92127
UID:e.784.2603
SEQUENCE:3
DTSTAMP:20260422T092438Z
URL:https://chamber.sdbusinesschamber.com/events/details/complimentary-new-member-orientation-breakfast-09-04-2012-2603
END:VEVENT

END:VCALENDAR
