BEGIN:VCALENDAR
VERSION:2.0
PRODID:-//ChamberMaster//Event Calendar 2.0//EN
METHOD:PUBLISH
X-PUBLISHED-TTL:P3D
REFRESH-INTERVAL:P3D
CALSCALE:GREGORIAN
BEGIN:VEVENT
DTSTART:20120517T143000Z
DTEND:20120517T160000Z
X-MICROSOFT-CDO-ALLDAYEVENT:FALSE
SUMMARY:Complimentary New Member Orientation & Breakfast
DESCRIPTION:
X-ALT-DESC;FMTTYPE=text/html:
LOCATION:San Diego North Chamber of Commerce 10875 Rancho Bernardo Road\, Suite 104 San Diego\, CA 92127
UID:e.784.2601
SEQUENCE:3
DTSTAMP:20260422T155536Z
URL:https://chamber.sdbusinesschamber.com/events/details/complimentary-new-member-orientation-breakfast-05-17-2012-2601
END:VEVENT

END:VCALENDAR
