BEGIN:VCALENDAR
VERSION:2.0
PRODID:-//ChamberMaster//Event Calendar 2.0//EN
METHOD:PUBLISH
X-PUBLISHED-TTL:P3D
REFRESH-INTERVAL:P3D
CALSCALE:GREGORIAN
BEGIN:VEVENT
DTSTART:20110825T143000Z
DTEND:20110825T160000Z
X-MICROSOFT-CDO-ALLDAYEVENT:FALSE
SUMMARY:Complimentary New Member Breakfast
DESCRIPTION:SDNCC welcomes all new members to join us for a complimentary continental breakfast and informational orientation to educate you on the benefits and opportunities the chamber offers its members.\n\n\n	\n\n	RSVP is required and seating is limited to the first 40 individuals.
X-ALT-DESC;FMTTYPE=text/html:SDNCC welcomes all new members to join us for a complimentary continental breakfast and informational orientation to educate you on the benefits and opportunities the chamber offers its members.<br />\n<p style="font-family:Verdana\,Geneva\;font-size:10pt\;margin-top:0px\;margin-bottom:0px">\n	<br />\n	<span>RSVP is required and seating is limited to the first 40 individuals.<strong> &nbsp\;</strong></span></p>\n
LOCATION:El Torito 16375 Bernardo Center Dr San Diego\, CA 92128
UID:e.784.2319
SEQUENCE:3
DTSTAMP:20260423T042019Z
URL:https://chamber.sdbusinesschamber.com/events/details/complimentary-new-member-breakfast-08-25-2011-2319
END:VEVENT

END:VCALENDAR
