BEGIN:VCALENDAR
VERSION:2.0
PRODID:-//ChamberMaster//Event Calendar 2.0//EN
METHOD:PUBLISH
X-PUBLISHED-TTL:P3D
REFRESH-INTERVAL:P3D
CALSCALE:GREGORIAN
BEGIN:VEVENT
DTSTART:20110517T143000Z
DTEND:20110517T160000Z
X-MICROSOFT-CDO-ALLDAYEVENT:FALSE
SUMMARY:Complimentary New Member Breakfast
DESCRIPTION:
X-ALT-DESC;FMTTYPE=text/html:
LOCATION:El Torito 16375 Bernardo Center Dr San Diego\, CA 92128
UID:e.784.2288
SEQUENCE:3
DTSTAMP:20260423T100648Z
URL:https://chamber.sdbusinesschamber.com/events/details/complimentary-new-member-breakfast-05-17-2011-2288
END:VEVENT

END:VCALENDAR
