BEGIN:VCALENDAR
VERSION:2.0
PRODID:-//ChamberMaster//Event Calendar 2.0//EN
METHOD:PUBLISH
X-PUBLISHED-TTL:P3D
REFRESH-INTERVAL:P3D
CALSCALE:GREGORIAN
BEGIN:VEVENT
DTSTART:20120119T153000Z
DTEND:20120119T170000Z
X-MICROSOFT-CDO-ALLDAYEVENT:FALSE
SUMMARY:Complimentary New Member Breakfast
DESCRIPTION:SDNCC welcomes all new members to join us for a complimentary continental breakfast and informational orientation to educate you on the benefits and opportunities the chamber offers its members.\n\n\n	\n\n	Seating is limited to the first 25 registrants.
X-ALT-DESC;FMTTYPE=text/html:SDNCC welcomes all new members to join us for a complimentary continental breakfast and informational orientation to educate you on the benefits and opportunities the chamber offers its members.<br />\n<p style="font-family:Verdana\,Geneva\;font-size:10pt\;margin-top:0px\;margin-bottom:0px">\n	<br />\n	<span><span style="font-weight: bold\;">Seating is limited to the first 25 registrants.</span></span></p>\n
LOCATION:SDNCC 10875 Rancho Bernardo Road Suite 104 San Diego CA 92127
UID:e.784.2541
SEQUENCE:3
DTSTAMP:20260422T213557Z
URL:https://chamber.sdbusinesschamber.com/events/details/complimentary-new-member-breakfast-01-19-2012-2541
END:VEVENT

END:VCALENDAR
