BEGIN:VCALENDAR
VERSION:2.0
PRODID:-//ChamberMaster//Event Calendar 2.0//EN
METHOD:PUBLISH
X-PUBLISHED-TTL:P3D
REFRESH-INTERVAL:P3D
CALSCALE:GREGORIAN
BEGIN:VEVENT
DTSTART:20131203T153000Z
DTEND:20131203T170000Z
X-MICROSOFT-CDO-ALLDAYEVENT:FALSE
SUMMARY:Complimentary Member Orientation Breakfast
DESCRIPTION:SDNCC welcomes new members to join us for a complimentary continental breakfast and orientation to educate you on the benefits and opportunities the chamber offers its members.
X-ALT-DESC;FMTTYPE=text/html:<font size="2" style="font-family: arial\;">SDNCC welcomes new members to join us for a <span style="font-style: italic\;">complimentary </span>continental breakfast and orientation to educate you on the benefits and opportunities the chamber offers its members.</font>
LOCATION:San Diego North Chamber of Commerce 10875 Rancho Bernardo Rd. #104 San Diego\, CA 92127
UID:e.784.2950
SEQUENCE:3
DTSTAMP:20260421T113217Z
URL:https://chamber.sdbusinesschamber.com/events/details/complimentary-member-orientation-breakfast-12-03-2013-2950
END:VEVENT

END:VCALENDAR
