BEGIN:VCALENDAR
VERSION:2.0
PRODID:-//ChamberMaster//Event Calendar 2.0//EN
METHOD:PUBLISH
X-PUBLISHED-TTL:P3D
REFRESH-INTERVAL:P3D
CALSCALE:GREGORIAN
BEGIN:VEVENT
DTSTART:20190912T150000Z
DTEND:20190912T190000Z
X-MICROSOFT-CDO-ALLDAYEVENT:FALSE
SUMMARY:Compassion in the Workplace
DESCRIPTION:According to Chip Conley\, "The most forgotten fact in business is that we are all human." Perhaps this is why research has found that fifty-two percent of employees thought of quitting\, changing jobs\, or declining a promotion because they were unhappy. Fortunately\, there is a new and exciting body of research emerging that shows the key to good employee health\, organizational well-being\, and an improved bottom line is the cultivation of compassion in organizations. Compassion has been used by some most famous and accomplished world leaders (Mother Theresa\, Mahatma Gandhi\, Nelson Mandela\, and more)\, as well as in highly successful organizations such as Google\, General Mills\, Vision Service Plan\, CISCO Systems\, and Facebook.\n\nBy creating a culture of compassion in organizations\, research has found that employees are less stressed and fearful and more satisfied\, loyal\, engaged\, and resilient. With compassion\, employees nurture their capacities to be kind\, forgiving\, and helpful which leads to a more efficient\, productive\, and pleasant place of work. This is how businesses and humans can thrive together.
X-ALT-DESC;FMTTYPE=text/html:<p>According to Chip Conley\, &quot\;The most forgotten fact in business is that we are all human.&quot\; Perhaps this is why research has found that fifty-two percent of employees thought of quitting\, changing jobs\, or declining a promotion because they were unhappy. Fortunately\, there is a new and exciting body of research emerging that shows the key to good employee health\, organizational well-being\, and an improved bottom line is the cultivation of compassion in organizations. Compassion has been used by some most famous and accomplished world leaders (Mother Theresa\, Mahatma Gandhi\, Nelson Mandela\, and more)\, as well as in highly successful organizations such as Google\, General Mills\, Vision Service Plan\, CISCO Systems\, and Facebook.</p>\n\n<p>By creating a culture of compassion in organizations\, research has found that employees are less stressed and fearful and more satisfied\, loyal\, engaged\, and resilient. With compassion\, employees nurture their capacities to be kind\, forgiving\, and helpful which leads to a more efficient\, productive\, and pleasant place of work. This is how businesses and humans can thrive together.</p>\n
LOCATION:UCSD Rady School of Management
UID:e.784.22842
SEQUENCE:3
DTSTAMP:20260421T113228Z
URL:https://chamber.sdbusinesschamber.com/events/details/compassion-in-the-workplace-09-12-2019-22842
END:VEVENT

END:VCALENDAR
