BEGIN:VCALENDAR
VERSION:2.0
PRODID:-//ChamberMaster//Event Calendar 2.0//EN
METHOD:PUBLISH
X-PUBLISHED-TTL:P3D
REFRESH-INTERVAL:P3D
CALSCALE:GREGORIAN
BEGIN:VEVENT
DTSTART:20090517T070000Z
DTEND:20090517T070000Z
X-MICROSOFT-CDO-ALLDAYEVENT:FALSE
SUMMARY:Community Building throgh Positive Transformations
DESCRIPTION:Presentation given by local professionals. Here first hand what you can do to reduce your mortgage\,take advantagge of the real estate slump and manage your stress
X-ALT-DESC;FMTTYPE=text/html:Presentation given by local professionals. Here first hand what you can do to reduce your mortgage\,take advantagge of the real estate slump and manage your stress
LOCATION:Courtyard by Marriot - Rancho Bernardo
UID:e.784.-165
SEQUENCE:3
DTSTAMP:20260424T181350Z
URL:https://chamber.sdbusinesschamber.com/events/details/community-building-throgh-positive-transformations-05-17-2009
END:VEVENT

END:VCALENDAR
