BEGIN:VCALENDAR
VERSION:2.0
PRODID:-//ChamberMaster//Event Calendar 2.0//EN
METHOD:PUBLISH
X-PUBLISHED-TTL:P3D
REFRESH-INTERVAL:P3D
CALSCALE:GREGORIAN
BEGIN:VEVENT
DTSTART:20130119T040000Z
DTEND:20130119T060000Z
X-MICROSOFT-CDO-ALLDAYEVENT:FALSE
SUMMARY:Clint Black
DESCRIPTION:Clint Black\, heralded as one of Country music's brightest stars\, hosts an intimate evening of stories and songs.  Black has sold more than 20 million albums worldwide including his 1989 debut album\, Killin' Time\, which went triple platinum and yielded five #1 hits including "Nothin' But the Taillights\," "A Better Man" and "Put Yourself in My Shoes."  CMT lists this album as one of the 100 Greatest Albums in Country Music.  Now Black takes to the road backed only by a pair of musicians for a one-of-a-kind acoustic show   perfect for the Poway stage!
X-ALT-DESC;FMTTYPE=text/html:<p>\n	<span style="font-family: 'calibri'\, 'sans-serif'\; color: #333333\; font-size: 11pt\; mso-ascii-theme-font: minor-latin\; mso-hansi-theme-font: minor-latin\; mso-bidi-theme-font: minor-latin">Clint Black\, heralded as one of Country music&#39\;s brightest stars\, hosts an intimate evening of stories and songs. <span style="mso-spacerun: yes">&nbsp\;</span>Black has sold more than 20 million albums worldwide including his 1989 debut album\, <i style="mso-bidi-font-style: normal">Killin&#39\; Time</i>\, which went triple platinum and yielded five #1 hits including &quot\;Nothin&#39\; But the Taillights\,&quot\; &quot\;A Better Man&quot\; and &quot\;Put Yourself in My Shoes.&quot\;<span style="mso-spacerun: yes">&nbsp\; </span>CMT lists this album as one of the 100 Greatest Albums in Country Music.<span style="mso-spacerun: yes">&nbsp\; </span>Now Black takes to the road backed only by a pair of musicians for a one-of-a-kind acoustic show &ndash\; perfect for the Poway stage! <o:p></o:p></span></p>\n
LOCATION:Poway Center for the Performing Arts 15498 Espola Road\, Poway\, CA 92064
UID:e.784.2664
SEQUENCE:3
DTSTAMP:20260422T030028Z
URL:https://chamber.sdbusinesschamber.com/events/details/clint-black-01-18-2013-2664
END:VEVENT

END:VCALENDAR
