BEGIN:VCALENDAR
VERSION:2.0
PRODID:-//ChamberMaster//Event Calendar 2.0//EN
METHOD:PUBLISH
X-PUBLISHED-TTL:P3D
REFRESH-INTERVAL:P3D
CALSCALE:GREGORIAN
BEGIN:VEVENT
DTSTART:20110916T143000Z
DTEND:20110916T203000Z
X-MICROSOFT-CDO-ALLDAYEVENT:FALSE
SUMMARY:Cleantech Legislative Conference
DESCRIPTION:The Cleantech Legislative Conference aims to demonstrate to our regional officials the importance and potential impact of bringing new businesses to the region to develop and manufacture products. The debate will examine case studies of businesses that have opened in San Diego\, and businesses that opened elsewhere and the causes of their decisions.\n\n\n\nFor more detailed information please visit the link above.
X-ALT-DESC;FMTTYPE=text/html:The Cleantech Legislative Conference aims to demonstrate to our regional officials the importance and potential impact of bringing new businesses to the region to develop and manufacture products. The debate will examine case studies of businesses that have opened in San Diego\, and businesses that opened elsewhere and the causes of their decisions.<br />\n<br />\n<strong>For more detailed information please visit the link above.</strong>
LOCATION:Sony Electronics Inc. 16535 Via Esprillo San Diego\, CA 92127
UID:e.784.2446
SEQUENCE:3
DTSTAMP:20260423T025252Z
URL:https://chamber.sdbusinesschamber.com/events/details/cleantech-legislative-conference-09-16-2011-2446
END:VEVENT

END:VCALENDAR
