BEGIN:VCALENDAR
VERSION:2.0
PRODID:-//ChamberMaster//Event Calendar 2.0//EN
METHOD:PUBLISH
X-PUBLISHED-TTL:P3D
REFRESH-INTERVAL:P3D
CALSCALE:GREGORIAN
BEGIN:VEVENT
DTSTART:20120524T150000Z
DTEND:20120524T170000Z
X-MICROSOFT-CDO-ALLDAYEVENT:FALSE
SUMMARY:CleanTech Event w/ SDG&E
DESCRIPTION:Lower your business utility bills and Go GREEN!\n\n\nThe San Diego North Chamber of Commerce Economic Development Committee invites you to attend a symposium to discover how using clean tech products developed right here in San Diego can add to your bottom line\, saving you money and allowing you to grow your business.\n\n\n	\n\n	Hear case studies from a panel of local businesses:\n\n	\n\n	SDG&E\n\n	Buster Biofuels\n\n	San Diego County Regional Airport Authority\n\n	Stone Brewing\n\n	Hewlett Packard\n\n\n\n	See how they integrated systems in their buildings that lead to real savings while reducing emissions and energy consumption.
X-ALT-DESC;FMTTYPE=text/html:<div style="text-align: center\;">\n	<em><strong><span style="font-size: 18px\;">Lower your business utility bills and Go <span style="color: rgb(0\, 255\, 0)\;"><span style="font-size: 22px\;"><span style="font-family: courier new\;">GREEN</span></span></span>!</span></strong></em></div>\n<br />\nThe San Diego North Chamber of Commerce Economic Development Committee invites you to attend a symposium to discover how using clean tech products developed right here in San Diego can add to your bottom line\, saving you money and allowing you to grow your business.<br />\n<div style="text-align: center\;">\n	<br />\n	Hear case studies from a panel of local businesses:<br />\n	<br />\n	<span style="font-size: 14px\;">SDG&amp\;E<br />\n	Buster Biofuels<br />\n	San Diego County Regional Airport Authority<br />\n	Stone Brewing<br />\n	Hewlett Packard</span></div>\n<br />\n<div style="text-align: center\;">\n	See how they integrated systems in their buildings that lead to real savings while reducing emissions and energy consumption.</div>\n
LOCATION:Hewlett Packard- Rancho Bernardo 16399 W. Bernardo Dr. San Diego\, CA 92127
UID:e.784.2631
SEQUENCE:3
DTSTAMP:20260422T154053Z
URL:https://chamber.sdbusinesschamber.com/events/details/cleantech-event-w-sdg-e-05-24-2012-2631
END:VEVENT

END:VCALENDAR
