BEGIN:VCALENDAR
VERSION:2.0
PRODID:-//ChamberMaster//Event Calendar 2.0//EN
METHOD:PUBLISH
X-PUBLISHED-TTL:P3D
REFRESH-INTERVAL:P3D
CALSCALE:GREGORIAN
BEGIN:VEVENT
DTSTART:20131204T160000Z
DTEND:20131204T170000Z
X-MICROSOFT-CDO-ALLDAYEVENT:FALSE
SUMMARY:CleanTech Corridor Subcommittee Meeting
DESCRIPTION:
X-ALT-DESC;FMTTYPE=text/html:
LOCATION:San Diego North Chamber of Commerce 10875 Rancho Bernardo Road Suite 104 San Diego CA 92127
UID:e.784.2782
SEQUENCE:3
DTSTAMP:20260421T113456Z
URL:https://chamber.sdbusinesschamber.com/events/details/cleantech-corridor-subcommittee-meeting-12-04-2013-2782
END:VEVENT

END:VCALENDAR
