BEGIN:VCALENDAR
VERSION:2.0
PRODID:-//ChamberMaster//Event Calendar 2.0//EN
METHOD:PUBLISH
X-PUBLISHED-TTL:P3D
REFRESH-INTERVAL:P3D
CALSCALE:GREGORIAN
BEGIN:VEVENT
DTSTART:20100606T070000Z
DTEND:20100606T070000Z
X-MICROSOFT-CDO-ALLDAYEVENT:FALSE
SUMMARY:City of Encinitas Pet Health Expo
DESCRIPTION:The City of Encinitas is pleased to announce its 2010 Pet Expo on Sunday\, June 6 where pets and owners alike can enjoy plenty of fun activities while promoting the better health and wellbeing of the pet population.\n\nActivities will include professional photos with your pet\, grooming\, a best trickcontest\, and the “neuter scooter” clinic.  Informational booths\, vendors\, and animal rescue organizations will be on hand at the expo to give away free goodies and prizes as well as encourage pet health and wellness ideas.\n\nIn addition\, the County Department of Animal Services will be offering discounted dog licensing\, $6 rabies shots\, and $20 microchipping (includes registration) for residentsof Encinitas\, Solana Beach\, Del Mar\, Carlsbad\, and unincorporated San Diego.  All late fees will bewaived at this event.\n\nFor more information regarding the expo please visit www.EncinitasRecReg.com or call 760-633-2760.
X-ALT-DESC;FMTTYPE=text/html:The City of Encinitas is pleased to announce its 2010 Pet Expo on Sunday\, June 6 where pets and owners alike can enjoy plenty of fun activities while promoting the better health and wellbeing of the pet population.\n\nActivities will include professional photos with your pet\, grooming\, a best trickcontest\, and the “neuter scooter” clinic.  Informational booths\, vendors\, and animal rescue organizations will be on hand at the expo to give away free goodies and prizes as well as encourage pet health and wellness ideas.\n\nIn addition\, the County Department of Animal Services will be offering discounted dog licensing\, $6 rabies shots\, and $20 microchipping (includes registration) for residentsof Encinitas\, Solana Beach\, Del Mar\, Carlsbad\, and unincorporated San Diego.  All late fees will bewaived at this event.\n\nFor more information regarding the expo please visit www.EncinitasRecReg.com or call 760-633-2760.
LOCATION:City of Encinitas
UID:e.784.-171
SEQUENCE:3
DTSTAMP:20260424T001912Z
URL:https://chamber.sdbusinesschamber.com/events/details/city-of-encinitas-pet-health-expo-06-06-2010
END:VEVENT

END:VCALENDAR
