BEGIN:VCALENDAR
VERSION:2.0
PRODID:-//ChamberMaster//Event Calendar 2.0//EN
METHOD:PUBLISH
X-PUBLISHED-TTL:P3D
REFRESH-INTERVAL:P3D
CALSCALE:GREGORIAN
BEGIN:VEVENT
DTSTART;VALUE=DATE:20130503
DTEND;VALUE=DATE:20130506
TRANSP:TRANSPARENT
X-MICROSOFT-CDO-ALLDAYEVENT:TRUE
SUMMARY:Cinco de Mayo Fiesta
DESCRIPTION:Food & Drink Specials. $2 street tacos-Carne Asada\, Pollo Asada & Adobada(Pork). $4 XX Lager & Amber drafts. $6 Corralejo shots. $8 corralejo margaritas. $2 aguas frescas(Orchata\, Jamaica & Fresa.\n\n\n\nParking Lot Tailgate Party on Sunday\, May 5th 11:a.m-8pm. Folckoric dance 3 pm\, 4 pm and 5:30 pm. Live Mariachi 6 pm-8 pm
X-ALT-DESC;FMTTYPE=text/html:Food &amp\; Drink Specials. $2 street tacos-Carne Asada\, Pollo Asada &amp\; Adobada(Pork). $4 XX Lager &amp\; Amber drafts. $6 Corralejo shots. $8 corralejo margaritas. $2 aguas frescas(Orchata\, Jamaica &amp\; Fresa.<br />\n<br />\nParking Lot Tailgate Party on Sunday\, May 5th 11:a.m-8pm. Folckoric dance 3 pm\, 4 pm and 5:30 pm. Live Mariachi 6 pm-8 pm
LOCATION:Miguel's Cocina. 10514 Craftsman way\, San Diego CA 92127
UID:e.784.2878
SEQUENCE:3
DTSTAMP:20260421T205733Z
URL:https://chamber.sdbusinesschamber.com/events/details/cinco-de-mayo-fiesta-05-03-2013-2878
END:VEVENT

END:VCALENDAR
