BEGIN:VCALENDAR
VERSION:2.0
PRODID:-//ChamberMaster//Event Calendar 2.0//EN
METHOD:PUBLISH
X-PUBLISHED-TTL:P3D
REFRESH-INTERVAL:P3D
CALSCALE:GREGORIAN
BEGIN:VEVENT
DTSTART;VALUE=DATE:20201213
DTEND;VALUE=DATE:20201214
TRANSP:TRANSPARENT
X-MICROSOFT-CDO-ALLDAYEVENT:TRUE
SUMMARY:Christmas Collectors Auction
DESCRIPTION:Christmas Collectors Auction\n\n\nLots start closing Sunday\, December 13\, 2020  |  6:15 PM Pacific\n\n\n\nGold\, Silver\, Jewelry\, Coins\, Sports Cards\, Several Great Estates - Santa is coming! To get upcoming auctions\, text ncauctions to 77222. Email or text with questions (619) 787-4906 casey@northcountyauctions.com
X-ALT-DESC;FMTTYPE=text/html:<h1>&nbsp\;Christmas Collectors Auction</h1>\n<br />\n<span style="background-color:rgb(251\, 251\, 251)\; color:rgb(102\, 102\, 102)\; font-family:arial\,helvetica\,sans-serif\; font-size:11.55px">Lots start closing Sunday\, December 13\, 2020&nbsp\;&nbsp\;|&nbsp\;&nbsp\;6:15 PM&nbsp\;Pacific</span><br />\n<br />\n<span style="background-color:rgb(251\, 251\, 251)\; color:rgb(0\, 0\, 0)\; font-family:arial\,helvetica\,sans-serif">Gold\, Silver\, Jewelry\, Coins\, Sports Cards\, Several Great Estates - Santa is coming! To get upcoming auctions\, text ncauctions to 77222. Email or text with questions (619) 787-4906 casey@northcountyauctions.com</span><br />\n&nbsp\;
LOCATION:1996 Don Lee Place\, Suite D Escondido\, CA 92029
UID:e.784.26955
SEQUENCE:3
DTSTAMP:20260425T170112Z
URL:https://chamber.sdbusinesschamber.com/events/details/christmas-collectors-auction-12-13-2020-26955
END:VEVENT

END:VCALENDAR
