BEGIN:VCALENDAR
VERSION:2.0
PRODID:-//ChamberMaster//Event Calendar 2.0//EN
METHOD:PUBLISH
X-PUBLISHED-TTL:P3D
REFRESH-INTERVAL:P3D
CALSCALE:GREGORIAN
BEGIN:VEVENT
DTSTART:20190926T150000Z
DTEND:20190926T190000Z
X-MICROSOFT-CDO-ALLDAYEVENT:FALSE
SUMMARY:Change Management
DESCRIPTION:Successful implementation of change is contingent on helping people embrace a new way of doing things. The traditional tools of communication and persuasion are often insufficient in dealing with emotionally based resistance. After learning the J-Curve model\, you'll be able to use a unique set of tools to immediately speed the implementation of any change.
X-ALT-DESC;FMTTYPE=text/html:<span style="color:rgb(66\, 66\, 66)\; font-family:roboto\,sans-serif\; font-size:18px">Successful implementation of change is contingent on helping people embrace a new way of doing things. The traditional tools of communication and persuasion are often insufficient in dealing with emotionally based resistance. After learning the J-Curve model\, you&rsquo\;ll be able to use a unique set of tools to immediately speed the implementation of any change.</span>
LOCATION:UCSD Rady School of Management
UID:e.784.22844
SEQUENCE:3
DTSTAMP:20260421T112920Z
URL:https://chamber.sdbusinesschamber.com/events/details/change-management-22844
END:VEVENT

END:VCALENDAR
