BEGIN:VCALENDAR
VERSION:2.0
PRODID:-//ChamberMaster//Event Calendar 2.0//EN
METHOD:PUBLISH
X-PUBLISHED-TTL:P3D
REFRESH-INTERVAL:P3D
CALSCALE:GREGORIAN
BEGIN:VEVENT
DTSTART:20210127T233000Z
DTEND:20210128T010000Z
X-MICROSOFT-CDO-ALLDAYEVENT:FALSE
SUMMARY:Championing Diversity: CEO Straight Talk
DESCRIPTION:We are excited to kick off the new year with a virtual Re:Imagine Leadership Summit featuring a stellar panel of CEOs dedicated to advancing diversity\, equity and inclusion in the workplace. Representing different industries and diverse areas of DEI focus\, our panel discussion is sure to be insightful and inspiring. \n\n\n\nModerator: Arthur Benjamin\, Varian Medical Systems\n\n\n\nPanelists:\n\nBradley Nardick - CEO\, The Bazaar\, Inc.\n\nDeLinda Forsythe - CEO\, Innovative Commercial Environments\n\nTodd Lane - CEO\, California Coast Credit Union\n\nRudolph A. Johnson\, III - CEO\, Neighborhood House Association\n\n\n\nThis panel discussion is free\, as part of our commitment to continue to shed light on racial justice and equity.
X-ALT-DESC;FMTTYPE=text/html:<p><span style="font-family:verdana"><span style="color:rgb(32\, 32\, 32)\; font-size:14px">We are excited to kick off the new year with&nbsp\;a&nbsp\;virtual&nbsp\;<a href="https://executiveexcellence.com/reimagine/">Re:Imagine Leadership Summit</a>&nbsp\;featuring a stellar panel of CEOs dedicated to advancing diversity\, equity and inclusion in the workplace. Representing different industries&nbsp\;and diverse areas of DEI focus\, our panel discussion is sure to be insightful and inspiring.&nbsp\;</span><br />\n<br />\n<span style="color:rgb(35\, 35\, 51)\; font-size:14px"><strong>Moderator:</strong> <a href="https://www.linkedin.com/in/arthur-benjamin/?goal=0_3fdc276484-a27e8e9e19-152536009">Arthur Benjamin</a>\, Varian Medical Systems</span><br />\n<br />\n<strong><span style="color:rgb(35\, 35\, 51)\; font-size:14px">Panelists:</span></strong><br />\n<span style="color:rgb(35\, 35\, 51)\; font-size:14px"><a href="https://www.linkedin.com/in/bradnardick/?goal=0_3fdc276484-a27e8e9e19-152536009">Bradley Nardick</a> - CEO\, The Bazaar\, Inc.</span><br />\n<span style="color:rgb(35\, 35\, 51)\; font-size:14px"><a href="https://www.linkedin.com/in/delinda-forsythe-3aa05211/?goal=0_3fdc276484-a27e8e9e19-152536009">DeLinda Forsythe</a> - CEO\, Innovative Commercial Environments</span><br />\n<span style="color:rgb(35\, 35\, 51)\; font-size:14px"><a href="https://www.linkedin.com/in/todd-lane-99782620/?goal=0_3fdc276484-a27e8e9e19-152536009">Todd Lane</a> - CEO\, California Coast Credit Union</span><br />\n<span style="color:rgb(35\, 35\, 51)\; font-size:14px"><a href="https://www.linkedin.com/in/rudolph-johnson-08616a77/?goal=0_3fdc276484-a27e8e9e19-152536009">Rudolph A. Johnson\, III</a> - CEO\, Neighborhood House Association</span><br />\n<br />\n<span style="color:rgb(35\, 35\, 51)\; font-size:14px">This panel discussion is free\, as part of <a href="https://executiveexcellence.com/an-open-letter-from-our-ceo/">our commitment</a> to continue to shed light on racial justice and equity.</span></span></p>\n
LOCATION:Online
UID:e.784.26957
SEQUENCE:3
DTSTAMP:20260425T154051Z
URL:https://chamber.sdbusinesschamber.com/events/details/championing-diversity-ceo-straight-talk-26957
END:VEVENT

END:VCALENDAR
