BEGIN:VCALENDAR
VERSION:2.0
PRODID:-//ChamberMaster//Event Calendar 2.0//EN
METHOD:PUBLISH
X-PUBLISHED-TTL:P3D
REFRESH-INTERVAL:P3D
CALSCALE:GREGORIAN
BEGIN:VEVENT
DTSTART:20120615T000000Z
DTEND:20120615T020000Z
X-MICROSOFT-CDO-ALLDAYEVENT:FALSE
SUMMARY:Chamber Trip to China Info Night
DESCRIPTION:The San Diego North Chamber of Commerce is sponsoring a 9-day trip to China from October 7-15\, 2012. The exploratory trip is open to the members\, residents of the community\, family and friends. \n\n	\n\n	For a discounted rate of $2\,099\, participants will be treated to an experience that includes a fully guided tour through Beijing\, Suzhou\, Hangzhou and Shanghai. \n\n	\n\n	 Those interested can register for a no obligation informative session taking place June 14th at the Rancho Bernardo Courtyard by Marriott. Space is limited and early reservations are encouraged.
X-ALT-DESC;FMTTYPE=text/html:<div>\n	<span style="font-size:12px\;"><span><span _mce_style="font-size: 11pt\;">The San Diego North Chamber of Commerce is sponsoring a 9-day trip to China from&nbsp\;October 7-15\, 2012. The exploratory trip is open to the members\, residents of the community\, family and friends. </span></span></span><br />\n	<br />\n	<span style="font-size:12px\;"><span><span _mce_style="font-size: 11pt\;">For a discounted rate of $2\,099\, participants will be treated to an experience that includes a fully guided tour through Beijing\, Suzhou\, Hangzhou and Shanghai. </span></span></span><br />\n	<br />\n	<span style="font-size:12px\;"><span>&nbsp\;</span></span><span style="font-size:12px\;">Those interested can register for a no obligation informative session taking place <strong>June 14th at the Rancho Bernardo Courtyard by Marriott</strong>. Space is limited and early reservations are encouraged.</span></div>\n
LOCATION:Courtyard by Marriott/ Rancho Bernardo 11611 Bernardo Plaza Court San Diego\, California 92128 USA
UID:e.784.2644
SEQUENCE:3
DTSTAMP:20260422T140510Z
URL:https://chamber.sdbusinesschamber.com/events/details/chamber-trip-to-china-info-night-06-14-2012-2644
END:VEVENT

END:VCALENDAR
