BEGIN:VCALENDAR
VERSION:2.0
PRODID:-//ChamberMaster//Event Calendar 2.0//EN
METHOD:PUBLISH
X-PUBLISHED-TTL:P3D
REFRESH-INTERVAL:P3D
CALSCALE:GREGORIAN
BEGIN:VEVENT
DTSTART;VALUE=DATE:20121007
DTEND;VALUE=DATE:20121016
TRANSP:TRANSPARENT
X-MICROSOFT-CDO-ALLDAYEVENT:TRUE
SUMMARY:Chamber Trip to China 2012
DESCRIPTION:The San Diego North Chamber of Commerce is sponsoring a 9-day trip to China from October 7-15\, 2012. The exploratory trip is open to the members\, residents of the community\, family and friends. \n\n \n\nFor a discounted rate of $2\,099\, participants will be treated to an experience that includes a fully guided tour through Beijing\, Suzhou\, Hangzhou and Shanghai with visits to Tiananmen Square\, the Temple of Heaven\, the Forbidden City\, the Great Wall\, Ming Tombs and the Lingering Garden\, Tiger Hill\, the Hanshan Temple\, the Shanghai Bund\, the jade\, pearl\, silk markets\, a green tea plantation and much more. \n\n \n\nThose who elect to take part in the 9-day all inclusive package will be supporting regional efforts for economic development\, supporting programs to help regional businesses and entrepreneurs grow and expand their efforts. \n\n \n\nThe trip includes round trip airfare from Los Angeles International Airport to Beijing\; all travel within China\; wonderful 4 and 5 star hotels\, deluxe tour bus\; knowledgeable English-speaking guides\; three full meals every day\; fees for all attractions and any applicable taxes.
X-ALT-DESC;FMTTYPE=text/html:<span style="font-size:11.0pt\;">The San Diego North Chamber of Commerce is sponsoring a 9-day trip to China from&nbsp\;October 7-15\, 2012. The exploratory trip is open to the members\, residents of the community\, family and friends. </span><br />\n&nbsp\;<br />\n<span style="font-size:11.0pt\;">For a discounted rate of $2\,099\, participants will be treated to an experience that includes a fully guided tour through Beijing\, Suzhou\, Hangzhou and Shanghai with visits to Tiananmen Square\, the Temple of Heaven\, the Forbidden City\, the Great Wall\, Ming Tombs and the Lingering Garden\, Tiger Hill\, the Hanshan Temple\, the Shanghai Bund\, the jade\, pearl\, silk markets\, a green tea plantation and much more.&nbsp\;</span><br />\n&nbsp\;<br />\n<span style="font-size:11.0pt\;">Those who elect to take part in the 9-day all inclusive package will be supporting regional efforts for economic development\, supporting programs to help regional businesses and entrepreneurs grow and expand their efforts. </span><br />\n&nbsp\;<br />\n<span style="font-size:11.0pt\;">The trip includes round trip airfare from Los Angeles International Airport to Beijing\; all travel within China\; wonderful&nbsp\;4 and 5 star hotels\, deluxe tour bus\; knowledgeable English-speaking guides\; three full meals every day\; fees for all attractions and any applicable taxes.</span>
LOCATION:
UID:e.784.2647
SEQUENCE:3
DTSTAMP:20260422T075638Z
URL:https://chamber.sdbusinesschamber.com/events/details/chamber-trip-to-china-2012-10-07-2012-2647
END:VEVENT

END:VCALENDAR
