BEGIN:VCALENDAR
VERSION:2.0
PRODID:-//ChamberMaster//Event Calendar 2.0//EN
METHOD:PUBLISH
X-PUBLISHED-TTL:P3D
REFRESH-INTERVAL:P3D
CALSCALE:GREGORIAN
BEGIN:VEVENT
DTSTART;VALUE=DATE:20130415
DTEND;VALUE=DATE:20130424
TRANSP:TRANSPARENT
X-MICROSOFT-CDO-ALLDAYEVENT:TRUE
SUMMARY:Chamber Travels: Discover Ireland
DESCRIPTION:For a discounted rate of $3\,099-$3\,299\, participants will be treated to an experience that includes a fully guided tour featuring Dublin\, Killarney & Limerick with visits to Trinity College\, the Old Jameson Distillery\, Cliffs of Moher\, Ring of Kerry\, Bunratty Castle Medieval Banquet\, Glendalough\, Muckross House and Gardens\, Blarney Castle\, Woolen Mills and much more.\n\n\n\n\n	Click here to Register
X-ALT-DESC;FMTTYPE=text/html:<span style="font-size:11.0pt\;">For a discounted rate of $3\,099-$3\,299\, participants will be treated to an experience that includes a fully guided tour featuring Dublin\, Killarney &amp\; Limerick with visits to Trinity College\, the Old Jameson Distillery\, Cliffs of Moher\, Ring of Kerry\, Bunratty Castle Medieval Banquet\, Glendalough\, Muckross House and Gardens\, Blarney Castle\, Woolen Mills and much more.</span><br />\n<br />\n<p style="text-align: center\;">\n	<span style="font-size:16px\;"><strong><a href="http://cloud.chambermaster.com/userfiles/UserFiles/chambers/784/File/DISCOVERIRELAND-SanDiegoNorthCofC-15APR13-SAN.pdf">Click here to Register</a></strong></span></p>\n
LOCATION:
UID:e.784.2803
SEQUENCE:3
DTSTAMP:20260421T225130Z
URL:https://chamber.sdbusinesschamber.com/events/details/chamber-travels-discover-ireland-04-15-2013-2803
END:VEVENT

END:VCALENDAR
