BEGIN:VCALENDAR
VERSION:2.0
PRODID:-//ChamberMaster//Event Calendar 2.0//EN
METHOD:PUBLISH
X-PUBLISHED-TTL:P3D
REFRESH-INTERVAL:P3D
CALSCALE:GREGORIAN
BEGIN:VEVENT
DTSTART:20121116T020000Z
DTEND:20121116T040000Z
X-MICROSOFT-CDO-ALLDAYEVENT:FALSE
SUMMARY:Chamber Travel 2013 Info Session
DESCRIPTION:The Chamber Travels in 2013 - \n\n\n\nCome to an informational meeting and get more information our our two trips planned for 2013:\n\n\n\nIreland: April 15 - April 23\n\nGermany/Austria: October 1- October 9\n\n\n\nBon Voyage!
X-ALT-DESC;FMTTYPE=text/html:<span dir="ltr" id=":hv">The Chamber Travels in 2013 -&nbsp\;<br />\n<br />\nCome to an informational meeting and get more information our our two trips planned for 2013:<br />\n<br />\nIreland: April 15 - April 23<br />\nGermany/Austria: October 1- October 9<br />\n<br />\nBon Voyage!</span>
LOCATION:National University- Rancho Bernardo 16875 West Bernardo Drive\, Suite 150 San Diego\, CA 92127
UID:e.784.2726
SEQUENCE:3
DTSTAMP:20260422T062848Z
URL:https://chamber.sdbusinesschamber.com/events/details/chamber-travel-2013-info-session-11-15-2012-2726
END:VEVENT

END:VCALENDAR
